BEGIN:VCALENDAR
VERSION:2.0
PRODID:-//Katholische Grundschule Essener Straße - ECPv6.15.15//NONSGML v1.0//EN
CALSCALE:GREGORIAN
METHOD:PUBLISH
X-ORIGINAL-URL:https://grundschule-essenerstrasse.de
X-WR-CALDESC:Veranstaltungen für Katholische Grundschule Essener Straße
REFRESH-INTERVAL;VALUE=DURATION:PT1H
X-Robots-Tag:noindex
X-PUBLISHED-TTL:PT1H
BEGIN:VTIMEZONE
TZID:Europe/Berlin
BEGIN:DAYLIGHT
TZOFFSETFROM:+0100
TZOFFSETTO:+0200
TZNAME:CEST
DTSTART:20240331T010000
END:DAYLIGHT
BEGIN:STANDARD
TZOFFSETFROM:+0200
TZOFFSETTO:+0100
TZNAME:CET
DTSTART:20241027T010000
END:STANDARD
BEGIN:DAYLIGHT
TZOFFSETFROM:+0100
TZOFFSETTO:+0200
TZNAME:CEST
DTSTART:20250330T010000
END:DAYLIGHT
BEGIN:STANDARD
TZOFFSETFROM:+0200
TZOFFSETTO:+0100
TZNAME:CET
DTSTART:20251026T010000
END:STANDARD
BEGIN:DAYLIGHT
TZOFFSETFROM:+0100
TZOFFSETTO:+0200
TZNAME:CEST
DTSTART:20260329T010000
END:DAYLIGHT
BEGIN:STANDARD
TZOFFSETFROM:+0200
TZOFFSETTO:+0100
TZNAME:CET
DTSTART:20261025T010000
END:STANDARD
BEGIN:DAYLIGHT
TZOFFSETFROM:+0100
TZOFFSETTO:+0200
TZNAME:CEST
DTSTART:20270328T010000
END:DAYLIGHT
BEGIN:STANDARD
TZOFFSETFROM:+0200
TZOFFSETTO:+0100
TZNAME:CET
DTSTART:20271031T010000
END:STANDARD
END:VTIMEZONE
BEGIN:VEVENT
DTSTART;VALUE=DATE:20251222
DTEND;VALUE=DATE:20260108
DTSTAMP:20260423T061929
CREATED:20250511T123451Z
LAST-MODIFIED:20250511T123451Z
UID:13697-1766390400-1767772799@grundschule-essenerstrasse.de
SUMMARY:Weihnachtsferien\, OGS geschlossen
DESCRIPTION:In der Zeit vom 22. Dezember 2025 bis zum 6. Januar 2026 sind Weihnachtsferien. Der Ganztag bleibt während der Ferien geschlossen
URL:https://grundschule-essenerstrasse.de/termin/weihnachtsferien-ogs-geschlossen-6/
END:VEVENT
BEGIN:VEVENT
DTSTART;TZID=Europe/Berlin:20260115T081500
DTEND;TZID=Europe/Berlin:20260115T081500
DTSTAMP:20260423T061929
CREATED:20250825T085254Z
LAST-MODIFIED:20250825T085254Z
UID:14154-1768464900-1768464900@grundschule-essenerstrasse.de
SUMMARY:Schulgottesdienst Kl. 3
DESCRIPTION:Am Donnerstag\, den 15. Januar\, findet für die Kinder der 3. Klassen um 08:15 Uhr der Schulgottesdienst in der Kirche Hl. Dreifaltigkeit statt. Die Kinder treffen sich bereits um 08:00 Uhr auf dem Schulhof und gehen gemeinsam mit ihren Lehrerinnen zur Kirche.
URL:https://grundschule-essenerstrasse.de/termin/schulgottesdienst-kl-3-17/
LOCATION:Kirche Hl. Dreifaltigkeit
END:VEVENT
BEGIN:VEVENT
DTSTART;TZID=Europe/Berlin:20260129T081500
DTEND;TZID=Europe/Berlin:20260129T081500
DTSTAMP:20260423T061929
CREATED:20250825T084635Z
LAST-MODIFIED:20250825T084827Z
UID:14142-1769674500-1769674500@grundschule-essenerstrasse.de
SUMMARY:Schulgottesdienst Kl. 4
DESCRIPTION:Am Donnerstag\, den 29. Januar 2026\, findet für die Kinder der 4. Klassen um 08:15 Uhr der Schulgottesdienst in der Kirche Hl. Dreifaltigkeit statt. Die Kinder treffen sich bereits um 08:00 Uhr auf dem Schulhof und gehen gemeinsam mit ihren Lehrerinnen zur Kirche.
URL:https://grundschule-essenerstrasse.de/termin/schulgottesdienst-kl-4-18/
LOCATION:Kirche Hl. Dreifaltigkeit
END:VEVENT
END:VCALENDAR