BEGIN:VCALENDAR
VERSION:2.0
PRODID:-//Katholische Grundschule Essener Straße - ECPv6.15.15//NONSGML v1.0//EN
CALSCALE:GREGORIAN
METHOD:PUBLISH
X-ORIGINAL-URL:https://grundschule-essenerstrasse.de
X-WR-CALDESC:Veranstaltungen für Katholische Grundschule Essener Straße
REFRESH-INTERVAL;VALUE=DURATION:PT1H
X-Robots-Tag:noindex
X-PUBLISHED-TTL:PT1H
BEGIN:VTIMEZONE
TZID:Europe/Berlin
BEGIN:DAYLIGHT
TZOFFSETFROM:+0100
TZOFFSETTO:+0200
TZNAME:CEST
DTSTART:20240331T010000
END:DAYLIGHT
BEGIN:STANDARD
TZOFFSETFROM:+0200
TZOFFSETTO:+0100
TZNAME:CET
DTSTART:20241027T010000
END:STANDARD
BEGIN:DAYLIGHT
TZOFFSETFROM:+0100
TZOFFSETTO:+0200
TZNAME:CEST
DTSTART:20250330T010000
END:DAYLIGHT
BEGIN:STANDARD
TZOFFSETFROM:+0200
TZOFFSETTO:+0100
TZNAME:CET
DTSTART:20251026T010000
END:STANDARD
BEGIN:DAYLIGHT
TZOFFSETFROM:+0100
TZOFFSETTO:+0200
TZNAME:CEST
DTSTART:20260329T010000
END:DAYLIGHT
BEGIN:STANDARD
TZOFFSETFROM:+0200
TZOFFSETTO:+0100
TZNAME:CET
DTSTART:20261025T010000
END:STANDARD
END:VTIMEZONE
BEGIN:VEVENT
DTSTART;TZID=Europe/Berlin:20251001T164500
DTEND;TZID=Europe/Berlin:20251001T164500
DTSTAMP:20260423T101546
CREATED:20250827T103304Z
LAST-MODIFIED:20250827T103304Z
UID:14239-1759337100-1759337100@grundschule-essenerstrasse.de
SUMMARY:OGS-Elternnachmittag Gr. 1\, 2\, 3 und 4
DESCRIPTION:Am Dienstag\, den 30. September 2025\, findet für die OGS-Gruppen 1\, 2\, 3 und 4 der Elternnachmittag statt. Die Eltern wählen zunächst im Versammlungsraum ihren OGS-Elternvertreter und erhalten anschließend wichtige Informationen zum Ganztag und zum Gruppenalltag.
URL:https://grundschule-essenerstrasse.de/termin/ogs-elternnachmittag-gr-1-2-3-und-4/
LOCATION:Versammlungsraum
END:VEVENT
BEGIN:VEVENT
DTSTART;VALUE=DATE:20251003
DTEND;VALUE=DATE:20251005
DTSTAMP:20260423T101546
CREATED:20250511T122839Z
LAST-MODIFIED:20250511T122839Z
UID:13685-1759478400-1759564799@grundschule-essenerstrasse.de
SUMMARY:Tag der deutschen Einheit
DESCRIPTION:Am Freitag\, den 3. Oktober 2025\, ist Feiertag. Es findet kein Unterricht statt. Der Ganztag bleibt geschlossen.
URL:https://grundschule-essenerstrasse.de/termin/tag-der-deutschen-einheit-9/
END:VEVENT
BEGIN:VEVENT
DTSTART;TZID=Europe/Berlin:20251007T150000
DTEND;TZID=Europe/Berlin:20251007T180000
DTSTAMP:20260423T101546
CREATED:20250825T092053Z
LAST-MODIFIED:20250916T112119Z
UID:14163-1759849200-1759860000@grundschule-essenerstrasse.de
SUMMARY:Schulanmeldungen
DESCRIPTION:Am Dienstag\, den 7. Oktober 2025\, finden die Schulanmeldungen für das Schuljahr 2026/27 statt.\nBitte vereinbaren Sie mit dem Sekretariat einen Termin für die Anmeldung Ihres Kindes. Zum Anmeldegespräch bringen Sie bitte Ihr Kind mit und halten folgende Unterlagen bereit: \n\nAnmeldebogen von der Stadt\nschuleigenen Anmeldebogen\nNachweis über den Masernimpfschutz (Impfausweis)\nPassfoto Ihres Kindes
URL:https://grundschule-essenerstrasse.de/termin/schulanmeldungen-53/
LOCATION:Sekretariat der Schule
END:VEVENT
BEGIN:VEVENT
DTSTART;TZID=Europe/Berlin:20251008T110000
DTEND;TZID=Europe/Berlin:20251008T130000
DTSTAMP:20260423T101546
CREATED:20250825T092207Z
LAST-MODIFIED:20250916T112318Z
UID:14166-1759921200-1759928400@grundschule-essenerstrasse.de
SUMMARY:Schulanmeldungen
DESCRIPTION:Am Mittwoch\, den 8. Oktober 2025\, finden die Schulanmeldungen für das Schuljahr 2026/27 statt.\nBitte vereinbaren Sie mit dem Sekretariat einen Termin für die Anmeldung Ihres Kindes. Zum Anmeldegespräch bringen Sie bitte Ihr Kind mit und halten folgende Unterlagen bereit: \n\nAnmeldebogen von der Stadt\nschuleigenen Anmeldebogen\nNachweis über den Masernimpfschutz (Impfausweis)\nPassfoto Ihres Kindes
URL:https://grundschule-essenerstrasse.de/termin/schulanmeldungen-54/
LOCATION:Sekretariat der Schule
END:VEVENT
BEGIN:VEVENT
DTSTART;TZID=Europe/Berlin:20251008T150000
DTEND;TZID=Europe/Berlin:20251008T180000
DTSTAMP:20260423T101546
CREATED:20250825T092259Z
LAST-MODIFIED:20250916T112437Z
UID:14169-1759935600-1759946400@grundschule-essenerstrasse.de
SUMMARY:Schulanmeldungen
DESCRIPTION:Am Mittwoch\, den 8. Oktober 2025\, finden die Schulanmeldungen für das Schuljahr 2026/27 statt.\nBitte vereinbaren Sie mit dem Sekretariat einen Termin für die Anmeldung Ihres Kindes. Zum Anmeldegespräch bringen Sie bitte Ihr Kind mit und halten folgende Unterlagen bereit: \n\nAnmeldebogen von der Stadt\nschuleigenen Anmeldebogen\nNachweis über den Masernimpfschutz (Impfausweis)\nPassfoto Ihres Kindes
URL:https://grundschule-essenerstrasse.de/termin/schulanmeldungen-55/
LOCATION:Sekretariat der Schule
END:VEVENT
BEGIN:VEVENT
DTSTART;TZID=Europe/Berlin:20251009T081500
DTEND;TZID=Europe/Berlin:20251009T081500
DTSTAMP:20260423T101546
CREATED:20250825T083955Z
LAST-MODIFIED:20250825T084132Z
UID:14129-1759997700-1759997700@grundschule-essenerstrasse.de
SUMMARY:Schulgottesdienst Kl. 4
DESCRIPTION:Am Donnerstag\, den 9. Oktober 2025\, findet für die Kinder der 4. Klassen um 08:15 Uhr der Schulgottesdienst in der Kirche Hl. Dreifaltigkeit statt. Die Kinder treffen sich bereits um 08:00 Uhr auf dem Schulhof und gehen gemeinsam mit ihren Lehrerinnen zur Kirche.
URL:https://grundschule-essenerstrasse.de/termin/schulgottesdienst-kl-4-15/
LOCATION:Kirche Hl. Dreifaltigkeit
END:VEVENT
BEGIN:VEVENT
DTSTART;TZID=Europe/Berlin:20251009T110000
DTEND;TZID=Europe/Berlin:20251009T130000
DTSTAMP:20260423T101546
CREATED:20250825T092413Z
LAST-MODIFIED:20250916T112538Z
UID:14172-1760007600-1760014800@grundschule-essenerstrasse.de
SUMMARY:Schulanmeldungen
DESCRIPTION:Am Donnerstag\, den 9. Oktober 2025\, finden die Schulanmeldungen für das Schuljahr 2026/27 statt.\nBitte vereinbaren Sie mit dem Sekretariat einen Termin für die Anmeldung Ihres Kindes. Zum Anmeldegespräch bringen Sie bitte Ihr Kind mit und halten folgende Unterlagen bereit: \n\nAnmeldebogen von der Stadt\nschuleigenen Anmeldebogen\nNachweis über den Masernimpfschutz (Impfausweis)\nPassfoto Ihres Kindes
URL:https://grundschule-essenerstrasse.de/termin/schulanmeldungen-56/
LOCATION:Sekretariat der Schule
END:VEVENT
BEGIN:VEVENT
DTSTART;TZID=Europe/Berlin:20251010T100000
DTEND;TZID=Europe/Berlin:20251010T100000
DTSTAMP:20260423T101546
CREATED:20250825T092818Z
LAST-MODIFIED:20250825T092818Z
UID:14178-1760090400-1760090400@grundschule-essenerstrasse.de
SUMMARY:Treffen in der Turnhalle
DESCRIPTION:Am letzten Schultag vor den Herbstferien treffen sich die a-Klassen sowie die Klassen 1c und 4c um 10:00 Uhr in der Turnhalle\, um sich in die Ferien zu verabschieden. Einzelne Klassen präsentieren Ergebnisse aus dem Unterricht\, wie z. B. Tänze\, Lieder oder Referate. Die Eltern dieser Klassen sind herzlich dazu eingeladen.
URL:https://grundschule-essenerstrasse.de/termin/treffen-in-der-turnhalle-33/
LOCATION:Turnhalle
END:VEVENT
BEGIN:VEVENT
DTSTART;TZID=Europe/Berlin:20251010T104500
DTEND;TZID=Europe/Berlin:20251010T104500
DTSTAMP:20260423T101546
CREATED:20250825T092703Z
LAST-MODIFIED:20250825T092703Z
UID:14175-1760093100-1760093100@grundschule-essenerstrasse.de
SUMMARY:Treffen in der Turnhalle
DESCRIPTION:Am letzten Schultag vor den Herbstferien treffen sich die b-Klassen sowie die Klassen 2c und 3c um 10:45 Uhr in der Turnhalle\, um sich in die Ferien zu verabschieden. Einzelne Klassen präsentieren Ergebnisse aus dem Unterricht\, wie z. B. Tänze\, Lieder oder Referate. Die Eltern dieser Klassen sind herzlich dazu eingeladen.
URL:https://grundschule-essenerstrasse.de/termin/treffen-in-der-turnhalle-32/
LOCATION:Turnhalle
END:VEVENT
BEGIN:VEVENT
DTSTART;VALUE=DATE:20251013
DTEND;VALUE=DATE:20251019
DTSTAMP:20260423T101546
CREATED:20250511T123209Z
LAST-MODIFIED:20250511T123209Z
UID:13691-1760342400-1760774399@grundschule-essenerstrasse.de
SUMMARY:OGS geöffnet
DESCRIPTION:In den Herbstferien wird für die Ganztagskinder eine Ferienbetreuung angeboten. Es werden Ausflüge\, Bastel- und Sportaktivitäten durchgeführt.
URL:https://grundschule-essenerstrasse.de/termin/ogs-geoeffnet-51/
END:VEVENT
BEGIN:VEVENT
DTSTART;VALUE=DATE:20251013
DTEND;VALUE=DATE:20251027
DTSTAMP:20260423T101546
CREATED:20250511T123054Z
LAST-MODIFIED:20250511T123054Z
UID:13688-1760342400-1761465599@grundschule-essenerstrasse.de
SUMMARY:Herbstferien
DESCRIPTION:In der Zeit vom 13. Oktober und 25. Oktober 2025 sind Herbstferien. Es findet kein Unterricht statt.
URL:https://grundschule-essenerstrasse.de/termin/herbstferien-11/
END:VEVENT
BEGIN:VEVENT
DTSTART;VALUE=DATE:20251020
DTEND;VALUE=DATE:20251026
DTSTAMP:20260423T101546
CREATED:20250511T123250Z
LAST-MODIFIED:20250511T123250Z
UID:13694-1760947200-1761379199@grundschule-essenerstrasse.de
SUMMARY:OGS geöffnet
DESCRIPTION:In den Herbstferien wird für die Ganztagskinder eine Ferienbetreuung angeboten. Es werden Ausflüge\, Bastel- und Sportaktivitäten durchgeführt.
URL:https://grundschule-essenerstrasse.de/termin/ogs-geoeffnet-52/
END:VEVENT
BEGIN:VEVENT
DTSTART;TZID=Europe/Berlin:20251030T193000
DTEND;TZID=Europe/Berlin:20251030T193000
DTSTAMP:20260423T101546
CREATED:20250827T065103Z
LAST-MODIFIED:20250902T223053Z
UID:14234-1761852600-1761852600@grundschule-essenerstrasse.de
SUMMARY:Fackelbasteln für die Eltern
DESCRIPTION:Am Donnerstag\, den 30. Oktober 2025\, treffen wir uns um 19:30 Uhr mit bastelfreudigen Eltern in der Schule\, um die gelben Martinsfackeln für den Martinsumzug zu basteln.
URL:https://grundschule-essenerstrasse.de/termin/fackelbasteln-fuer-die-eltern-4/
LOCATION:Schulgebäude\, Essener Straße 1\, Düsseldorf\, 40476\, Deutschland
END:VEVENT
END:VCALENDAR