BEGIN:VCALENDAR
VERSION:2.0
PRODID:-//Katholische Grundschule Essener Straße - ECPv6.15.15//NONSGML v1.0//EN
CALSCALE:GREGORIAN
METHOD:PUBLISH
X-WR-CALNAME:Katholische Grundschule Essener Straße
X-ORIGINAL-URL:https://grundschule-essenerstrasse.de
X-WR-CALDESC:Veranstaltungen für Katholische Grundschule Essener Straße
REFRESH-INTERVAL;VALUE=DURATION:PT1H
X-Robots-Tag:noindex
X-PUBLISHED-TTL:PT1H
BEGIN:VTIMEZONE
TZID:Europe/Berlin
BEGIN:DAYLIGHT
TZOFFSETFROM:+0100
TZOFFSETTO:+0200
TZNAME:CEST
DTSTART:20240331T010000
END:DAYLIGHT
BEGIN:STANDARD
TZOFFSETFROM:+0200
TZOFFSETTO:+0100
TZNAME:CET
DTSTART:20241027T010000
END:STANDARD
BEGIN:DAYLIGHT
TZOFFSETFROM:+0100
TZOFFSETTO:+0200
TZNAME:CEST
DTSTART:20250330T010000
END:DAYLIGHT
BEGIN:STANDARD
TZOFFSETFROM:+0200
TZOFFSETTO:+0100
TZNAME:CET
DTSTART:20251026T010000
END:STANDARD
BEGIN:DAYLIGHT
TZOFFSETFROM:+0100
TZOFFSETTO:+0200
TZNAME:CEST
DTSTART:20260329T010000
END:DAYLIGHT
BEGIN:STANDARD
TZOFFSETFROM:+0200
TZOFFSETTO:+0100
TZNAME:CET
DTSTART:20261025T010000
END:STANDARD
END:VTIMEZONE
BEGIN:VEVENT
DTSTART;TZID=Europe/Berlin:20250902T193000
DTEND;TZID=Europe/Berlin:20250902T193000
DTSTAMP:20260423T113406
CREATED:20250824T153342Z
LAST-MODIFIED:20250824T153342Z
UID:14104-1756841400-1756841400@grundschule-essenerstrasse.de
SUMMARY:Vollversammlung des Fördervereins
DESCRIPTION:Am Dienstag\, den 2. September 2025\, findet die Vollversammlung des Fördervereins statt. An diesem Abend wird der neue Vorstand gewählt. Wir suchen wieder interessierte Eltern\, die Lust haben\, mitzumachen.
URL:https://grundschule-essenerstrasse.de/termin/vollversammlung-des-foerdervereins-6/
LOCATION:Versammlungsraum
END:VEVENT
BEGIN:VEVENT
DTSTART;TZID=Europe/Berlin:20250910T190000
DTEND;TZID=Europe/Berlin:20250910T190000
DTSTAMP:20260423T113406
CREATED:20250824T153731Z
LAST-MODIFIED:20250824T171120Z
UID:14108-1757530800-1757530800@grundschule-essenerstrasse.de
SUMMARY:Elternabend 4a\, 4b\, 4c
DESCRIPTION:Am Mittwoch\, den 10. September 2025\, findet der Elternabend der Klassen 4a\, 4b und 4c statt. Die Eltern der Klassen erhalten viele wichtige Informationen zum 4. Schuljahr. Außerdem werden die Wahlen der Elternvertreter durchgeführt.
URL:https://grundschule-essenerstrasse.de/termin/elternabend-4a-4b-4c-8/
LOCATION:Versammlungsraum
END:VEVENT
BEGIN:VEVENT
DTSTART;TZID=Europe/Berlin:20250910T193000
DTEND;TZID=Europe/Berlin:20250910T193000
DTSTAMP:20260423T113406
CREATED:20250824T170954Z
LAST-MODIFIED:20250824T170954Z
UID:14111-1757532600-1757532600@grundschule-essenerstrasse.de
SUMMARY:Elternabend 1a/1b
DESCRIPTION:Am Mittwoch\, den 10. September 2025\, findet der Elternabend der Klassen 1a und 1b statt. Die Eltern der Klassen erhalten viele wichtige Informationen zum 3. Schuljahr. Außerdem werden die Wahlen der Elternvertreter durchgeführt.
URL:https://grundschule-essenerstrasse.de/termin/elternabend-1a-1b-7/
LOCATION:Klassenraum
END:VEVENT
BEGIN:VEVENT
DTSTART;TZID=Europe/Berlin:20250911T081500
DTEND;TZID=Europe/Berlin:20250911T081500
DTSTAMP:20260423T113406
CREATED:20250825T084337Z
LAST-MODIFIED:20250825T084337Z
UID:14134-1757578500-1757578500@grundschule-essenerstrasse.de
SUMMARY:Schulgottesdienst Kl. 4
DESCRIPTION:Am Donnerstag\, den 11. September 2025\, findet für die Kinder der 4. Klassen um 08:15 Uhr der Schulgottesdienst in der Kirche Hl. Dreifaltigkeit statt. Die Kinder treffen sich bereits um 08:00 Uhr auf dem Schulhof und gehen gemeinsam mit ihren Lehrerinnen zur Kirche.
URL:https://grundschule-essenerstrasse.de/termin/schulgottesdienst-kl-4-16/
LOCATION:Kirche Hl. Dreifaltigkeit
END:VEVENT
BEGIN:VEVENT
DTSTART;VALUE=DATE:20250916
DTEND;VALUE=DATE:20250918
DTSTAMP:20260423T113406
CREATED:20250825T083715Z
LAST-MODIFIED:20250825T083715Z
UID:14127-1758009600-1758095999@grundschule-essenerstrasse.de
SUMMARY:RP-Foto der Erstklässler
DESCRIPTION:Am Dienstag\, den 16. September 2025\, werden die Erstklässler für die Rheinische Post fotografiert. Die Bilder der Erstklässler erscheinen voraussichtlich Anfang Oktober in den Printausgabe und im e-Paper sowie bei der Rheinischen Post Online.
URL:https://grundschule-essenerstrasse.de/termin/rp-foto-der-erstklaessler-8/
END:VEVENT
BEGIN:VEVENT
DTSTART;TZID=Europe/Berlin:20250916T190000
DTEND;TZID=Europe/Berlin:20250916T190000
DTSTAMP:20260423T113406
CREATED:20250824T171609Z
LAST-MODIFIED:20250824T171609Z
UID:14118-1758049200-1758049200@grundschule-essenerstrasse.de
SUMMARY:Elternabend 3a/3b/3c
DESCRIPTION:Am Dienstag\, den 16. September 2025\, findet der Elternabend der Klassen 3a\, 3b und 3c statt. Die Eltern der Klassen erhalten viele wichtige Informationen zum 3. Schuljahr. Außerdem werden die Wahlen der Elternvertreter durchgeführt.
URL:https://grundschule-essenerstrasse.de/termin/elternabend-3a-3b-3c-8/
LOCATION:Versammlungsraum
END:VEVENT
BEGIN:VEVENT
DTSTART;TZID=Europe/Berlin:20250916T190000
DTEND;TZID=Europe/Berlin:20250916T190000
DTSTAMP:20260423T113406
CREATED:20250902T173305Z
LAST-MODIFIED:20250902T173305Z
UID:14357-1758049200-1758049200@grundschule-essenerstrasse.de
SUMMARY:Elternabend 2b
DESCRIPTION:Am Dienstag\, den 16. September 2025\, findet der Elternabend der Klassen 2a und 2c statt. Die Eltern der Klassen erhalten viele wichtige Informationen zum 3. Schuljahr. Außerdem werden die Wahlen der Elternvertreter durchgeführt.
URL:https://grundschule-essenerstrasse.de/termin/elternabend-2b-6/
LOCATION:Klassenraum
END:VEVENT
BEGIN:VEVENT
DTSTART;TZID=Europe/Berlin:20250918T190000
DTEND;TZID=Europe/Berlin:20250918T190000
DTSTAMP:20260423T113406
CREATED:20250824T171731Z
LAST-MODIFIED:20250902T173115Z
UID:14121-1758222000-1758222000@grundschule-essenerstrasse.de
SUMMARY:Elternabend 2a und 2c
DESCRIPTION:Am Donnerstag\, den 18. September 2025\, findet der Elternabend der Klassen 2a und 2c statt. Die Eltern der Klassen erhalten viele wichtige Informationen zum 3. Schuljahr. Außerdem werden die Wahlen der Elternvertreter durchgeführt.
URL:https://grundschule-essenerstrasse.de/termin/elternabend-2a-2b-2c-6/
LOCATION:Klassenraum
END:VEVENT
BEGIN:VEVENT
DTSTART;VALUE=DATE:20250919
DTEND;VALUE=DATE:20250921
DTSTAMP:20260423T113406
CREATED:20250824T171932Z
LAST-MODIFIED:20250824T171932Z
UID:14124-1758268800-1758355199@grundschule-essenerstrasse.de
SUMMARY:Walk to school day
DESCRIPTION:Am Freitag\, den 19. September 2025\, nehmen wir am „Zu-Fuß-zur-Schule-Tag“ teil. So sollen möglichst alle unserer Schüler dazu bewegt werden\, ihren Schulweg zu Fuß zurückzulegen. Unterstützung leisten bei dem Aktionstag das Schulamt der Landeshauptstadt Düsseldorf\, die Polizei sowie die Verkehrswacht. Die Schulen mit den prozentual zur Gesamtschülerzahl meisten Fußgängern erhalten einen Geldpreis.
URL:https://grundschule-essenerstrasse.de/termin/walk-to-school-day-9/
END:VEVENT
BEGIN:VEVENT
DTSTART;VALUE=DATE:20250922
DTEND;VALUE=DATE:20250924
DTSTAMP:20260423T113406
CREATED:20250825T085604Z
LAST-MODIFIED:20250825T085604Z
UID:14157-1758528000-1758614399@grundschule-essenerstrasse.de
SUMMARY:Beginn der AGs
DESCRIPTION:Heute starten für die Zweit- bis Drittklässler die AGs im Nachmittagsbereich.
URL:https://grundschule-essenerstrasse.de/termin/beginn-der-ags-3/
END:VEVENT
BEGIN:VEVENT
DTSTART;TZID=Europe/Berlin:20250925T081500
DTEND;TZID=Europe/Berlin:20250925T081500
DTSTAMP:20260423T113406
CREATED:20250825T084746Z
LAST-MODIFIED:20250825T084947Z
UID:14145-1758788100-1758788100@grundschule-essenerstrasse.de
SUMMARY:Schulgottesdienst Kl. 3
DESCRIPTION:Am Donnerstag\, den 25. September 2025\, findet für die Kinder der 3. Klassen um 08:15 Uhr der Schulgottesdienst in der Kirche Hl. Dreifaltigkeit statt. Die Kinder treffen sich bereits um 08:00 Uhr auf dem Schulhof und gehen gemeinsam mit ihren Lehrerinnen zur Kirche.
URL:https://grundschule-essenerstrasse.de/termin/schulgottesdienst-kl-3-15/
LOCATION:Kirche Hl. Dreifaltigkeit
END:VEVENT
BEGIN:VEVENT
DTSTART;TZID=Europe/Berlin:20250925T193000
DTEND;TZID=Europe/Berlin:20250925T193000
DTSTAMP:20260423T113406
CREATED:20250825T085810Z
LAST-MODIFIED:20250825T085810Z
UID:14160-1758828600-1758828600@grundschule-essenerstrasse.de
SUMMARY:1. Schulpflegschaftssitzung
DESCRIPTION:Am Donnerstag\, den 25. September 2025\, findet die 1. Schulpflegschaftsitzung statt. Die Elternvertreter*innen tauschen sich über wichtige Themen des Schuljahres aus und wählen den Vorsitz der Schulpflegschaft sowie die Vertreter*innen für die Schulkonferenz.
URL:https://grundschule-essenerstrasse.de/termin/1-schulpflegschaftssitzung-11/
LOCATION:Versammlungsraum
END:VEVENT
BEGIN:VEVENT
DTSTART;TZID=Europe/Berlin:20250927T100000
DTEND;TZID=Europe/Berlin:20250927T120000
DTSTAMP:20260423T113406
CREATED:20250902T221712Z
LAST-MODIFIED:20250902T221712Z
UID:14359-1758967200-1758974400@grundschule-essenerstrasse.de
SUMMARY:Tag der offenen Tür
DESCRIPTION:Am Samstag\, den 27. September 2025\, findet in der Zeit von 10 Uhr bis 12 Uhr der Tag der offenen Tür statt. Interessierte Besucher können sich in Ruhe alle Räume ansehen\, sich über die eingesetzten Unterrichtsmaterialien informieren\, Gespräche mit Eltern\, Lehrern und Schulleitung führen sowie Informationen zum Ganztag erhalten.
URL:https://grundschule-essenerstrasse.de/termin/tag-der-offenen-tuer-8/
LOCATION:Schulgebäude\, Essener Straße 1\, Düsseldorf\, 40476\, Deutschland
END:VEVENT
BEGIN:VEVENT
DTSTART;TZID=Europe/Berlin:20250929T193000
DTEND;TZID=Europe/Berlin:20250929T193000
DTSTAMP:20260423T113406
CREATED:20250902T222620Z
LAST-MODIFIED:20250902T222620Z
UID:14364-1759174200-1759174200@grundschule-essenerstrasse.de
SUMMARY:Infoabend zur Schulanmeldung 2026/27
DESCRIPTION:Am Montag\, den 29. September 2025\, findet ein Informationsabend zur Schulanmeldung 2026/27 statt. Interessierte Eltern erhalten alle wichtigen Informationen über die Schule sowie über den Ablauf der Schulanmeldungen für das Schuljahr 2026/27.
URL:https://grundschule-essenerstrasse.de/termin/infoabend-zur-schulanmeldung-2026-27/
LOCATION:Versammlungsraum
END:VEVENT
BEGIN:VEVENT
DTSTART;TZID=Europe/Berlin:20250930T164500
DTEND;TZID=Europe/Berlin:20250930T164500
DTSTAMP:20260423T113406
CREATED:20250827T103140Z
LAST-MODIFIED:20250827T103140Z
UID:14236-1759250700-1759250700@grundschule-essenerstrasse.de
SUMMARY:OGS-Elternnachmittag Gr. 5\, 6\, 7\, 8. und 9
DESCRIPTION:Am Dienstag\, den 30. September 2025\, findet für die OGS-Gruppen 5\, 6\, 7\, 8. und 9 der Elternnachmittag statt. Die Eltern wählen zunächst im Versammlungsraum ihren OGS-Elternvertreter und erhalten anschließend wichtige Informationen zum Ganztag und zum Gruppenalltag.
URL:https://grundschule-essenerstrasse.de/termin/ogs-elternnachmittag-gr-5-6-7-8-und-9/
LOCATION:Versammlungsraum
END:VEVENT
END:VCALENDAR