BEGIN:VCALENDAR
VERSION:2.0
PRODID:-//Katholische Grundschule Essener Straße - ECPv6.15.15//NONSGML v1.0//EN
CALSCALE:GREGORIAN
METHOD:PUBLISH
X-ORIGINAL-URL:https://grundschule-essenerstrasse.de
X-WR-CALDESC:Veranstaltungen für Katholische Grundschule Essener Straße
REFRESH-INTERVAL;VALUE=DURATION:PT1H
X-Robots-Tag:noindex
X-PUBLISHED-TTL:PT1H
BEGIN:VTIMEZONE
TZID:Europe/Berlin
BEGIN:DAYLIGHT
TZOFFSETFROM:+0100
TZOFFSETTO:+0200
TZNAME:CEST
DTSTART:20250330T010000
END:DAYLIGHT
BEGIN:STANDARD
TZOFFSETFROM:+0200
TZOFFSETTO:+0100
TZNAME:CET
DTSTART:20251026T010000
END:STANDARD
BEGIN:DAYLIGHT
TZOFFSETFROM:+0100
TZOFFSETTO:+0200
TZNAME:CEST
DTSTART:20260329T010000
END:DAYLIGHT
BEGIN:STANDARD
TZOFFSETFROM:+0200
TZOFFSETTO:+0100
TZNAME:CET
DTSTART:20261025T010000
END:STANDARD
BEGIN:DAYLIGHT
TZOFFSETFROM:+0100
TZOFFSETTO:+0200
TZNAME:CEST
DTSTART:20270328T010000
END:DAYLIGHT
BEGIN:STANDARD
TZOFFSETFROM:+0200
TZOFFSETTO:+0100
TZNAME:CET
DTSTART:20271031T010000
END:STANDARD
END:VTIMEZONE
BEGIN:VEVENT
DTSTART;VALUE=DATE:20260501
DTEND;VALUE=DATE:20260503
DTSTAMP:20260421T163830
CREATED:20250511T125152Z
LAST-MODIFIED:20250511T131819Z
UID:13717-1777622400-1777708799@grundschule-essenerstrasse.de
SUMMARY:Maifeiertag
DESCRIPTION:Am Donnerstag\, den 1. Mai 2026\, ist Feiertag. Es findet kein Unterricht statt. Der Ganztag bleibt geschlossen.
URL:https://grundschule-essenerstrasse.de/termin/maifeiertag-10/
END:VEVENT
BEGIN:VEVENT
DTSTART;TZID=Europe/Berlin:20260507T081500
DTEND;TZID=Europe/Berlin:20260507T081500
DTSTAMP:20260421T163830
CREATED:20250828T114647Z
LAST-MODIFIED:20250828T114647Z
UID:14297-1778141700-1778141700@grundschule-essenerstrasse.de
SUMMARY:Schulgottesdienst Kl. 4
DESCRIPTION:Am Donnerstag\, den 7. Mai 2026\, findet für die Kinder der 4. Klassen um 08:15 Uhr der Schulgottesdienst in der Kirche Hl. Dreifaltigkeit statt. Die Kinder treffen sich bereits um 08:00 Uhr auf dem Schulhof und gehen gemeinsam mit ihren Lehrerinnen zur Kirche.
URL:https://grundschule-essenerstrasse.de/termin/schulgottesdienst-kl-4-20/
LOCATION:Kirche Hl. Dreifaltigkeit
END:VEVENT
BEGIN:VEVENT
DTSTART;TZID=Europe/Berlin:20260509T110000
DTEND;TZID=Europe/Berlin:20260509T140000
DTSTAMP:20260421T163830
CREATED:20250828T114822Z
LAST-MODIFIED:20250828T114822Z
UID:14300-1778324400-1778335200@grundschule-essenerstrasse.de
SUMMARY:Schulfest
DESCRIPTION:Am Samstag\, den 9. Mai 2023\, findet das diesjährige Schulfest statt. Es werden einige Spielestationen angeboten\, die die Schülerinnen und Schüler erproben können. Für das leibliche Wohl wird mit einem Salatbuffet sowie Grillwürstchen gesorgt.
URL:https://grundschule-essenerstrasse.de/termin/schulfest-7/
LOCATION:Schulhof
END:VEVENT
BEGIN:VEVENT
DTSTART;VALUE=DATE:20260514
DTEND;VALUE=DATE:20260516
DTSTAMP:20260421T163830
CREATED:20250511T125357Z
LAST-MODIFIED:20250511T125357Z
UID:13720-1778745600-1778831999@grundschule-essenerstrasse.de
SUMMARY:Christi Himmelfahrt
DESCRIPTION:Am Donnerstag\, den 14. Mai 2026\, ist Feiertag. Es findet kein Unterricht statt. Der Ganztag bleibt geschlossen.
URL:https://grundschule-essenerstrasse.de/termin/christi-himmelfahrt-11/
END:VEVENT
BEGIN:VEVENT
DTSTART;VALUE=DATE:20260515
DTEND;VALUE=DATE:20260517
DTSTAMP:20260421T163830
CREATED:20250511T130627Z
LAST-MODIFIED:20250622T180854Z
UID:13723-1778832000-1778918399@grundschule-essenerstrasse.de
SUMMARY:Freitag nach Chr. Himmelfahrt\, schulfrei\, OGS geöffnet
DESCRIPTION:Am Freitag\, den 30. Mai 2025\, ist Brückentag. Es findet kein Unterricht statt. Der Ganztag ist geöffnet.
URL:https://grundschule-essenerstrasse.de/termin/freitag-nach-chr-himmelfahrt-schulfrei-ogs-geoeffnet-3/
END:VEVENT
BEGIN:VEVENT
DTSTART;VALUE=DATE:20260518
DTEND;VALUE=DATE:20260524
DTSTAMP:20260421T163830
CREATED:20250828T115038Z
LAST-MODIFIED:20250828T115038Z
UID:14303-1779091200-1779523199@grundschule-essenerstrasse.de
SUMMARY:Klassenfahrt der 4. Klassen
DESCRIPTION:In der Zeit vom 18. bis 22. Mail 2025 führen die 4. Klassen ihre Klassenfahrt durch. Gemeinsam mit ihren Lehrerinnen verbringen die Kinder eine Woche im Kirschkamper Hof und führen dort verschiedene Aktivitäten\, vorrangig im Freien\, durch.
URL:https://grundschule-essenerstrasse.de/termin/klassenfahrt-der-4-klassen-10/
LOCATION:Jugendherberge Xanten
END:VEVENT
BEGIN:VEVENT
DTSTART;TZID=Europe/Berlin:20260521T081500
DTEND;TZID=Europe/Berlin:20260521T081500
DTSTAMP:20260421T163830
CREATED:20250828T115947Z
LAST-MODIFIED:20250829T091335Z
UID:14312-1779351300-1779351300@grundschule-essenerstrasse.de
SUMMARY:Schulgottesdienst Kl. 3
DESCRIPTION:Am Donnerstag\, den 21. Mai 2026\, findet für die Kinder der 3. Klassen um 08:15 Uhr der Schulgottesdienst in der Kirche Hl. Dreifaltigkeit statt. Die Kinder treffen sich bereits um 08:00 Uhr auf dem Schulhof und gehen gemeinsam mit ihren Lehrerinnen zur Kirche.
URL:https://grundschule-essenerstrasse.de/termin/schulgottesdienst-kl-3-20/
LOCATION:Kirche Hl. Dreifaltigkeit
END:VEVENT
BEGIN:VEVENT
DTSTART;VALUE=DATE:20260525
DTEND;VALUE=DATE:20260527
DTSTAMP:20260421T163830
CREATED:20250511T130836Z
LAST-MODIFIED:20250511T130836Z
UID:13726-1779696000-1779782399@grundschule-essenerstrasse.de
SUMMARY:Pfingstmontag
DESCRIPTION:Am Montag\, den 25. Mai 2026\, ist Feiertag. Es findet kein Unterricht statt. Der Ganztag bleibt geschlossen.
URL:https://grundschule-essenerstrasse.de/termin/pfingstmontag-11/
END:VEVENT
BEGIN:VEVENT
DTSTART;VALUE=DATE:20260526
DTEND;VALUE=DATE:20260528
DTSTAMP:20260421T163830
CREATED:20250511T130954Z
LAST-MODIFIED:20250511T130954Z
UID:13731-1779782400-1779868799@grundschule-essenerstrasse.de
SUMMARY:Pfingstferien\, OGS geöffnet
DESCRIPTION:Am Dienstag\, den 26. Mai 2026\, sind Pfingstferien. Es findet kein Unterricht statt. Der Ganztag ist geöffnet.
URL:https://grundschule-essenerstrasse.de/termin/pfingstferien-ogs-geoeffnet-6/
END:VEVENT
BEGIN:VEVENT
DTSTART;VALUE=DATE:20260527
DTEND;VALUE=DATE:20260529
DTSTAMP:20260421T163830
CREATED:20250828T130914Z
LAST-MODIFIED:20250828T130914Z
UID:14315-1779868800-1779955199@grundschule-essenerstrasse.de
SUMMARY:Pädagogische Konferenz
DESCRIPTION:Am Mittwoch\, den 27. Mai 2026\, führt das Kollegium eine ganztägige pädagogische Konferenz durch. An diesem Tag findet kein Unterricht statt. Für die Ganztagskinder wird eine ganztägige Betreuung angeboten. AGs finden an diesem Nachmittag nicht statt.
URL:https://grundschule-essenerstrasse.de/termin/paedagogische-konferenz-9/
END:VEVENT
BEGIN:VEVENT
DTSTART;VALUE=DATE:20260604
DTEND;VALUE=DATE:20260606
DTSTAMP:20260421T163830
CREATED:20250511T131112Z
LAST-MODIFIED:20250511T131112Z
UID:13734-1780560000-1780646399@grundschule-essenerstrasse.de
SUMMARY:Fronleichnam
DESCRIPTION:Am Donnerstag\, den 4. Juni 2026 ist Feiertag. Es findet kein Unterricht statt. Der Ganztag bleibt geschlossen.
URL:https://grundschule-essenerstrasse.de/termin/fronleichnam-11/
END:VEVENT
BEGIN:VEVENT
DTSTART;TZID=Europe/Berlin:20260605T080000
DTEND;TZID=Europe/Berlin:20260605T130000
DTSTAMP:20260421T163830
CREATED:20250828T131117Z
LAST-MODIFIED:20250828T131117Z
UID:14318-1780646400-1780664400@grundschule-essenerstrasse.de
SUMMARY:Fußballfest
DESCRIPTION:Am Freitag\, den 5. Juni 2026\, führen wir ein vom Fußballverband Niederrhein (FVN) ausgearbeitetes Fußballfest durch. Zahlreiche sportliche Stationen rund um den Fußball laden alle Kinder der KGS Essener Straße zum Bewegen ein.
URL:https://grundschule-essenerstrasse.de/termin/fussballfest-2/
LOCATION:DSC-Platz\, Windscheidstr. 18\, Düsseldorf\, 40239
END:VEVENT
BEGIN:VEVENT
DTSTART;TZID=Europe/Berlin:20260609T193000
DTEND;TZID=Europe/Berlin:20260609T193000
DTSTAMP:20260421T163830
CREATED:20250828T131330Z
LAST-MODIFIED:20250828T141640Z
UID:14321-1781033400-1781033400@grundschule-essenerstrasse.de
SUMMARY:Infoabend für die Schulanfänger-Eltern
DESCRIPTION:Am Dienstag\, den 9. Juni 2026\, findet der Indoabend für die Schulanfänger-Eltern statt. Die Eltern erhalten wichtige Informationen zum Schulbeginn und zu den ersten Schulwochen.
URL:https://grundschule-essenerstrasse.de/termin/infoabend-fuer-die-schulanfaenger-eltern-11/
LOCATION:Versammlungsraum
END:VEVENT
BEGIN:VEVENT
DTSTART;TZID=Europe/Berlin:20260610T150000
DTEND;TZID=Europe/Berlin:20260610T150000
DTSTAMP:20260421T163830
CREATED:20250828T131809Z
LAST-MODIFIED:20250828T131809Z
UID:14326-1781103600-1781103600@grundschule-essenerstrasse.de
SUMMARY:Kennenlernnachmittag
DESCRIPTION:Am Mttwoch\, den 10. Juni 2026\, findet ein Kennenlernnachmittag für die Schulanfänger statt. Während die Kinder eine Schnupperstunde im Klassenraum erleben und anschließend mit den Patenkindern auf dem Schulhof spielen\, können die Eltern bei Kaffee und Kuchen auf dem Schulhof warten und Gespräche führen.
URL:https://grundschule-essenerstrasse.de/termin/kennenlernnachmittag-11/
LOCATION:Schulhof
END:VEVENT
BEGIN:VEVENT
DTSTART;TZID=Europe/Berlin:20260618T081500
DTEND;TZID=Europe/Berlin:20260618T081500
DTSTAMP:20260421T163830
CREATED:20250829T085622Z
LAST-MODIFIED:20250829T085622Z
UID:14332-1781770500-1781770500@grundschule-essenerstrasse.de
SUMMARY:Schulgottesdienst Kl. 4
DESCRIPTION:Am Donnerstag\, den 18. Juni 2026\, findet für die Kinder der 4. Klassen um 08:15 Uhr der Schulgottesdienst in der Kirche Hl. Dreifaltigkeit statt. Die Kinder treffen sich bereits um 08:00 Uhr auf dem Schulhof und gehen gemeinsam mit ihren Lehrerinnen zur Kirche.
URL:https://grundschule-essenerstrasse.de/termin/schulgottesdienst-kl-4-21/
LOCATION:Kirche Hl. Dreifaltigkeit
END:VEVENT
BEGIN:VEVENT
DTSTART;VALUE=DATE:20260623
DTEND;VALUE=DATE:20260625
DTSTAMP:20260421T163830
CREATED:20250912T073822Z
LAST-MODIFIED:20250912T073918Z
UID:14399-1782201600-1782287999@grundschule-essenerstrasse.de
SUMMARY:Radfahrtraining für die 4. Klassen
DESCRIPTION:Am Dienstag\, den 23.  Juni 2026\, findet für alle vierten Klassen das Radfahrtraining zum verkehrssicheren Radfahrer auf dem Verkehrsübungsplatz der JVS Rath statt. Ein Verkehrspolizist leitet den praktischen Unterricht einmal wöchentlich über drei Wochen. Begleitend findet im Klassenverband themengleich ein theoretisches Vertiefen der geübten Situationen im Straßenverkehr statt.
URL:https://grundschule-essenerstrasse.de/termin/radfahrtraining-fuer-die-4-klassen-11/
LOCATION:jvs
END:VEVENT
BEGIN:VEVENT
DTSTART;VALUE=DATE:20260630
DTEND;VALUE=DATE:20260702
DTSTAMP:20260421T163830
CREATED:20250912T074024Z
LAST-MODIFIED:20250912T074024Z
UID:14403-1782806400-1782892799@grundschule-essenerstrasse.de
SUMMARY:Radfahrrtraining für die 4. Klassen
DESCRIPTION:Am Dienstag\, den 30.  Juni 2026\, findet für alle vierten Klassen das Radfahrtraining zum verkehrssicheren Radfahrer auf dem Verkehrsübungsplatz der JVS Rath statt. Ein Verkehrspolizist leitet den praktischen Unterricht einmal wöchentlich über drei Wochen. Begleitend findet im Klassenverband themengleich ein theoretisches Vertiefen der geübten Situationen im Straßenverkehr statt.
URL:https://grundschule-essenerstrasse.de/termin/radfahrrtraining-fuer-die-4-klassen/
LOCATION:jvs
END:VEVENT
BEGIN:VEVENT
DTSTART;TZID=Europe/Berlin:20260702T081500
DTEND;TZID=Europe/Berlin:20260702T081500
DTSTAMP:20260421T163830
CREATED:20250829T085802Z
LAST-MODIFIED:20250829T085802Z
UID:14335-1782980100-1782980100@grundschule-essenerstrasse.de
SUMMARY:Schulgottesdienst Kl. 3
DESCRIPTION:Am Donnerstag\, den 2. Juli  2026\, findet für die Kinder der 3. Klassen um 08:15 Uhr der Schulgottesdienst in der Kirche Hl. Dreifaltigkeit statt. Die Kinder treffen sich bereits um 08:00 Uhr auf dem Schulhof und gehen gemeinsam mit ihren Lehrerinnen zur Kirche.
URL:https://grundschule-essenerstrasse.de/termin/schulgottesdienst-kl-3-21/
LOCATION:Kirche Hl. Dreifaltigkeit
END:VEVENT
BEGIN:VEVENT
DTSTART;VALUE=DATE:20260707
DTEND;VALUE=DATE:20260709
DTSTAMP:20260421T163830
CREATED:20250912T074146Z
LAST-MODIFIED:20250912T074146Z
UID:14406-1783411200-1783497599@grundschule-essenerstrasse.de
SUMMARY:Radfahrtraining für die 4. Klassen
DESCRIPTION:Am Dienstag\, den 7.  Juli 2026\, findet für alle vierten Klassen das Radfahrtraining zum verkehrssicheren Radfahrer auf dem Verkehrsübungsplatz der JVS Rath statt. Ein Verkehrspolizist leitet den praktischen Unterricht einmal wöchentlich über drei Wochen. Begleitend findet im Klassenverband themengleich ein theoretisches Vertiefen der geübten Situationen im Straßenverkehr statt.
URL:https://grundschule-essenerstrasse.de/termin/radfahrtraining-fuer-die-4-klassen-12/
LOCATION:JVS Rath
END:VEVENT
BEGIN:VEVENT
DTSTART;VALUE=DATE:20260715
DTEND;VALUE=DATE:20260717
DTSTAMP:20260421T163830
CREATED:20250829T090158Z
LAST-MODIFIED:20250829T090158Z
UID:14339-1784102400-1784188799@grundschule-essenerstrasse.de
SUMMARY:Zeugnisausgabe für die Klassen 1 bis 3
DESCRIPTION:Am Mittwoch\, den 15. Juli 2026\, erhalten alle Erst- bis Drittklässler ihre Zeugnisse. Sie erhalten zunächst eine Kopie\, die die Eltern ihrem Kind bitte unterschrieben wieder mitgeben. Erst dann überreichen wir das Original des Zeugnisses.
URL:https://grundschule-essenerstrasse.de/termin/zeugnisausgabe-fuer-die-klassen-1-bis-3-6/
END:VEVENT
BEGIN:VEVENT
DTSTART;TZID=Europe/Berlin:20260716T083000
DTEND;TZID=Europe/Berlin:20260716T083000
DTSTAMP:20260421T163830
CREATED:20250829T090334Z
LAST-MODIFIED:20250829T090407Z
UID:14342-1784190600-1784190600@grundschule-essenerstrasse.de
SUMMARY:Abschlussgottesdienst
DESCRIPTION:Am Donnerstag\, den 16. Juli 2026\, findet für die ganze Schule ein Schuljahresabschlussgottesdienst statt. Die Viertklässler gestalten den Gottesdienst mit und verabschieden sich in der Kirche von der Schule.
URL:https://grundschule-essenerstrasse.de/termin/abschlussgottesdienst-9/
END:VEVENT
BEGIN:VEVENT
DTSTART;VALUE=DATE:20260717
DTEND;VALUE=DATE:20260719
DTSTAMP:20260421T163830
CREATED:20250829T091455Z
LAST-MODIFIED:20250829T091455Z
UID:14345-1784275200-1784361599@grundschule-essenerstrasse.de
SUMMARY:Zeugnisausgabe für die 4. Klassen
DESCRIPTION:Am Freitag\, den 17. Juli 2026\, erhalten die Viertklässler ihre Zeugnisse.
URL:https://grundschule-essenerstrasse.de/termin/zeugnisausgabe-fuer-die-4-klassen-10/
END:VEVENT
BEGIN:VEVENT
DTSTART;TZID=Europe/Berlin:20260717T100000
DTEND;TZID=Europe/Berlin:20260717T100000
DTSTAMP:20260421T163830
CREATED:20250829T091646Z
LAST-MODIFIED:20250829T091646Z
UID:14346-1784282400-1784282400@grundschule-essenerstrasse.de
SUMMARY:Verabschiedung der Viertklässler
DESCRIPTION:Am letzten Schultag verabschieden sich die Viertklässler mit einer kleinen Aufführung in der Turnhalle von der Schule. Die Eltern der Viertklässler sind dazu herzlich eingeladen.
URL:https://grundschule-essenerstrasse.de/termin/verabschiedung-der-viertklaessler-7/
LOCATION:Turnhalle
END:VEVENT
BEGIN:VEVENT
DTSTART;VALUE=DATE:20260720
DTEND;VALUE=DATE:20260726
DTSTAMP:20260421T163830
CREATED:20250511T131427Z
LAST-MODIFIED:20250511T131427Z
UID:13741-1784534400-1784966399@grundschule-essenerstrasse.de
SUMMARY:OGS geöffnet
DESCRIPTION:In den ersten zwei Wochen der Sommerferien ist der Ganztag geöffnet. Es werden Ausflüge sowie Spiel-\, Sport- und Bastelaktivitäten durchgeführt.
URL:https://grundschule-essenerstrasse.de/termin/ogs-geoeffnet-55/
END:VEVENT
BEGIN:VEVENT
DTSTART;VALUE=DATE:20260720
DTEND;VALUE=DATE:20260903
DTSTAMP:20260421T163831
CREATED:20250511T131250Z
LAST-MODIFIED:20250511T131258Z
UID:13737-1784534400-1788335999@grundschule-essenerstrasse.de
SUMMARY:Sommerferien
DESCRIPTION:In der Zeit vom 20. Juli bis 1. September 2026 sind Sommerferien. Es findet kein Unterricht statt.
URL:https://grundschule-essenerstrasse.de/termin/sommerferein/
END:VEVENT
BEGIN:VEVENT
DTSTART;VALUE=DATE:20260727
DTEND;VALUE=DATE:20260802
DTSTAMP:20260421T163831
CREATED:20250511T131524Z
LAST-MODIFIED:20250511T131524Z
UID:13744-1785139200-1785571199@grundschule-essenerstrasse.de
SUMMARY:OGS geöffnet
DESCRIPTION:In den ersten zwei Wochen der Sommerferien ist der Ganztag geöffnet. Es werden Ausflüge sowie Spiel-\, Sport- und Bastelaktivitäten durchgeführt.
URL:https://grundschule-essenerstrasse.de/termin/ogs-geoeffnet-56/
END:VEVENT
END:VCALENDAR