BEGIN:VCALENDAR
VERSION:2.0
PRODID:-//Katholische Grundschule Essener Straße - ECPv6.15.15//NONSGML v1.0//EN
CALSCALE:GREGORIAN
METHOD:PUBLISH
X-ORIGINAL-URL:https://grundschule-essenerstrasse.de
X-WR-CALDESC:Veranstaltungen für Katholische Grundschule Essener Straße
REFRESH-INTERVAL;VALUE=DURATION:PT1H
X-Robots-Tag:noindex
X-PUBLISHED-TTL:PT1H
BEGIN:VTIMEZONE
TZID:Europe/Berlin
BEGIN:DAYLIGHT
TZOFFSETFROM:+0100
TZOFFSETTO:+0200
TZNAME:CEST
DTSTART:20240331T010000
END:DAYLIGHT
BEGIN:STANDARD
TZOFFSETFROM:+0200
TZOFFSETTO:+0100
TZNAME:CET
DTSTART:20241027T010000
END:STANDARD
BEGIN:DAYLIGHT
TZOFFSETFROM:+0100
TZOFFSETTO:+0200
TZNAME:CEST
DTSTART:20250330T010000
END:DAYLIGHT
BEGIN:STANDARD
TZOFFSETFROM:+0200
TZOFFSETTO:+0100
TZNAME:CET
DTSTART:20251026T010000
END:STANDARD
BEGIN:DAYLIGHT
TZOFFSETFROM:+0100
TZOFFSETTO:+0200
TZNAME:CEST
DTSTART:20260329T010000
END:DAYLIGHT
BEGIN:STANDARD
TZOFFSETFROM:+0200
TZOFFSETTO:+0100
TZNAME:CET
DTSTART:20261025T010000
END:STANDARD
BEGIN:DAYLIGHT
TZOFFSETFROM:+0100
TZOFFSETTO:+0200
TZNAME:CEST
DTSTART:20270328T010000
END:DAYLIGHT
BEGIN:STANDARD
TZOFFSETFROM:+0200
TZOFFSETTO:+0100
TZNAME:CET
DTSTART:20271031T010000
END:STANDARD
END:VTIMEZONE
BEGIN:VEVENT
DTSTART;VALUE=DATE:20260407
DTEND;VALUE=DATE:20260412
DTSTAMP:20260421T164141
CREATED:20250511T125006Z
LAST-MODIFIED:20250511T125006Z
UID:13714-1775548800-1775894399@grundschule-essenerstrasse.de
SUMMARY:OGS geöffnet
DESCRIPTION:In den Osterferien wird für die Ganztagskinder eine Ferienbetreuung angeboten. Es werden Ausflüge\, Bastel- und Sportaktivitäten durchgeführt.
URL:https://grundschule-essenerstrasse.de/termin/ogs-geoeffnet-54/
END:VEVENT
BEGIN:VEVENT
DTSTART;VALUE=DATE:20260330
DTEND;VALUE=DATE:20260413
DTSTAMP:20260421T164141
CREATED:20250511T124648Z
LAST-MODIFIED:20250511T124648Z
UID:13708-1774857600-1775980799@grundschule-essenerstrasse.de
SUMMARY:Osterferien
DESCRIPTION:In der Zeit vom 30. März 2026 bis 11. April 2026 sind Osterferien. Es findet kein Unterricht statt.
URL:https://grundschule-essenerstrasse.de/termin/osterferien-11/
END:VEVENT
BEGIN:VEVENT
DTSTART;VALUE=DATE:20260330
DTEND;VALUE=DATE:20260404
DTSTAMP:20260421T164141
CREATED:20250511T124814Z
LAST-MODIFIED:20250511T124849Z
UID:13711-1774857600-1775203199@grundschule-essenerstrasse.de
SUMMARY:OGS geöffnet
DESCRIPTION:In den Osterferien wird für die Ganztagskinder eine Ferienbetreuung angeboten. Es werden Ausflüge\, Bastel- und Sportaktivitäten durchgeführt.
URL:https://grundschule-essenerstrasse.de/termin/ogs-geoeffnet-53/
END:VEVENT
BEGIN:VEVENT
DTSTART;TZID=Europe/Berlin:20260327T104500
DTEND;TZID=Europe/Berlin:20260327T104500
DTSTAMP:20260421T164141
CREATED:20250825T093052Z
LAST-MODIFIED:20250825T093052Z
UID:14181-1774608300-1774608300@grundschule-essenerstrasse.de
SUMMARY:Treffen in der Turnhalle
DESCRIPTION:Am letzten Schultag vor den Osterferien treffen sich die a-Klassen sowie die Klassen 1c und 4c um 10:45 Uhr in der Turnhalle\, um sich in die Ferien zu verabschieden. Einzelne Klassen präsentieren Ergebnisse aus dem Unterricht\, wie z. B. Tänze\, Lieder oder Referate. Die Eltern dieser Klassen sind herzlich dazu eingeladen.
URL:https://grundschule-essenerstrasse.de/termin/treffen-in-der-turnhalle-34/
LOCATION:Turnhalle
END:VEVENT
BEGIN:VEVENT
DTSTART;TZID=Europe/Berlin:20260327T100000
DTEND;TZID=Europe/Berlin:20260327T100000
DTSTAMP:20260421T164141
CREATED:20250825T093349Z
LAST-MODIFIED:20250825T093349Z
UID:14184-1774605600-1774605600@grundschule-essenerstrasse.de
SUMMARY:Treffen in der Turnhalle
DESCRIPTION:Am letzten Schultag vor den Osterferien treffen sich die b-Klassen sowie die Klassen 2c und 3c um 10:00 Uhr in der Turnhalle\, um sich in die Ferien zu verabschieden. Einzelne Klassen präsentieren Ergebnisse aus dem Unterricht\, wie z. B. Tänze\, Lieder oder Referate. Die Eltern dieser Klassen sind herzlich dazu eingeladen.
URL:https://grundschule-essenerstrasse.de/termin/treffen-in-der-turnhalle-35/
LOCATION:Turnhalle
END:VEVENT
BEGIN:VEVENT
DTSTART;TZID=Europe/Berlin:20260326T083000
DTEND;TZID=Europe/Berlin:20260326T083000
DTSTAMP:20260421T164141
CREATED:20250828T085433Z
LAST-MODIFIED:20250828T085542Z
UID:14276-1774513800-1774513800@grundschule-essenerstrasse.de
SUMMARY:vorösterlicher Gottesdienst
DESCRIPTION:Am Donnerstag\, den 26. März 2026\, feiern wir mit der ganzen Schule einen vorösterlichen Gottesdienst. Wir gehen gemeinsam mit den Kindern zur Kirche und anschließend wieder zurück.
URL:https://grundschule-essenerstrasse.de/termin/voroesterlicher-gottesdienst-2/
LOCATION:Kirche Hl. Dreifaltigkeit
END:VEVENT
BEGIN:VEVENT
DTSTART;VALUE=DATE:20260319
DTEND;VALUE=DATE:20260321
DTSTAMP:20260421T164141
CREATED:20250828T085948Z
LAST-MODIFIED:20250828T085948Z
UID:14279-1773907200-1773993599@grundschule-essenerstrasse.de
SUMMARY:Leseprojekttag
DESCRIPTION:Am Donnerstag\, den 19. März 2026\, führen wir mit allen Kindern einen Leseprojekttag durch. An diesem Tag setzen sich alle Schülerinnen und Schüler in klassenübergreifenden Gruppen mit unterschiedlichen Büchern auseinander. Eine Mitmachen-Hörspiel-Lesung  ist ebenfalls vorgesehen.
URL:https://grundschule-essenerstrasse.de/termin/leseprojekttag-2/
END:VEVENT
BEGIN:VEVENT
DTSTART;VALUE=DATE:20260316
DTEND;VALUE=DATE:20260329
DTSTAMP:20260421T164141
CREATED:20250828T072645Z
LAST-MODIFIED:20250828T072729Z
UID:14273-1773648000-1774684799@grundschule-essenerstrasse.de
SUMMARY:Elternsprechzeiten
DESCRIPTION:In der Zeit vom 16. bis 27. März 2026\, finden die Elternsprechzeiten in den Klassen 1 bis 3 statt. Hier haben die Eltern die Möglichkeit\, mit den Lehrerinnen ihres Kindes über den Lern- und Leistungsstand zu sprechen.
URL:https://grundschule-essenerstrasse.de/termin/elternsprechzeiten-25/
END:VEVENT
BEGIN:VEVENT
DTSTART;TZID=Europe/Berlin:20260312T081500
DTEND;TZID=Europe/Berlin:20260312T081500
DTSTAMP:20260421T164141
CREATED:20250828T090308Z
LAST-MODIFIED:20250828T190703Z
UID:14285-1773303300-1773303300@grundschule-essenerstrasse.de
SUMMARY:Schulgottesdienst Kl. 4
DESCRIPTION:Am Donnerstag\, den 12. März 2026\, findet für die Kinder der 4. Klassen um 08:15 Uhr der Schulgottesdienst in der Kirche Hl. Dreifaltigkeit statt. Die Kinder treffen sich bereits um 08:00 Uhr auf dem Schulhof und gehen gemeinsam mit ihren Lehrerinnen zur Kirche.
URL:https://grundschule-essenerstrasse.de/termin/schulgottesdienst-kl-4-19/
LOCATION:Kirche Hl. Dreifaltigkeit
END:VEVENT
BEGIN:VEVENT
DTSTART;TZID=Europe/Berlin:20260305T193000
DTEND;TZID=Europe/Berlin:20260305T193000
DTSTAMP:20260421T164141
CREATED:20250828T072434Z
LAST-MODIFIED:20260126T155301Z
UID:14270-1772739000-1772739000@grundschule-essenerstrasse.de
SUMMARY:2. Schulpflegschaftssitzung
DESCRIPTION:Am Donnerstag\, den 5. März 2026\, findet die 2. Schulpflegschaftssitzung in diesem Schuljahr statt. Verschiedene Aktivitäten bis zu den Sommerferien sowie die Anliegen der Eltern werden hier besprochen.
URL:https://grundschule-essenerstrasse.de/termin/2-schulpflegschaftssitzung-9/
LOCATION:Versammlungsraum
END:VEVENT
BEGIN:VEVENT
DTSTART;TZID=Europe/Berlin:20260226T190000
DTEND;TZID=Europe/Berlin:20260226T190000
DTSTAMP:20260421T164141
CREATED:20260204T080152Z
LAST-MODIFIED:20260204T080152Z
UID:14676-1772132400-1772132400@grundschule-essenerstrasse.de
SUMMARY:Elternabend 2b
DESCRIPTION:Am Donnerstag\, den 26. Februar 2026\, findet der Elternabend der Klasse 2b statt. Die Eltern der Klassen erhalten im Klassenraum viele wichtige Informationen zum zweiten Schulhalbjahr.
URL:https://grundschule-essenerstrasse.de/termin/elternabend-2b-7/
LOCATION:Klassenraum
END:VEVENT
BEGIN:VEVENT
DTSTART;TZID=Europe/Berlin:20260226T190000
DTEND;TZID=Europe/Berlin:20260226T190000
DTSTAMP:20260421T164141
CREATED:20260204T075852Z
LAST-MODIFIED:20260204T080031Z
UID:14673-1772132400-1772132400@grundschule-essenerstrasse.de
SUMMARY:Elternabend 2a\, 2c
DESCRIPTION:Am Donnerstag\, den 26. Februar 2026\, finden die Elternabende der Klassen 2a und 2c statt. Die Eltern der Klassen erhalten im Versammlungsraum viele wichtige Informationen zum zweiten Schulhalbjahr.
URL:https://grundschule-essenerstrasse.de/termin/elternabend-2a-2b-2c-7/
LOCATION:Versammlungsraum
END:VEVENT
BEGIN:VEVENT
DTSTART;TZID=Europe/Berlin:20260226T081500
DTEND;TZID=Europe/Berlin:20260226T081500
DTSTAMP:20260421T164141
CREATED:20250828T090137Z
LAST-MODIFIED:20250828T090137Z
UID:14282-1772093700-1772093700@grundschule-essenerstrasse.de
SUMMARY:Schulgottesdienst Kl. 3
DESCRIPTION:Am Donnerstag\, den 26. Februar\, findet für die Kinder der 3. Klassen um 08:15 Uhr der Schulgottesdienst in der Kirche Hl. Dreifaltigkeit statt. Die Kinder treffen sich bereits um 08:00 Uhr auf dem Schulhof und gehen gemeinsam mit ihren Lehrerinnen zur Kirche.
URL:https://grundschule-essenerstrasse.de/termin/schulgottesdienst-kl-3-18/
LOCATION:Kirche Hl. Dreifaltigkeit
END:VEVENT
BEGIN:VEVENT
DTSTART;TZID=Europe/Berlin:20260225T193000
DTEND;TZID=Europe/Berlin:20260225T193000
DTSTAMP:20260421T164141
CREATED:20260202T140910Z
LAST-MODIFIED:20260203T064042Z
UID:14660-1772047800-1772047800@grundschule-essenerstrasse.de
SUMMARY:Elternabend 1a\, 1b
DESCRIPTION:Am Mittwoch\, den 25. Februar 2026\, finden die Elternabende der Klassen 1a und 1b statt. Die Eltern der Klassen erhalten im Versammlungsraum viele wichtige Informationen zum zweiten Schulhalbjahr.
URL:https://grundschule-essenerstrasse.de/termin/elternabend-1a-1b-8/
LOCATION:Klassenraum
END:VEVENT
BEGIN:VEVENT
DTSTART;TZID=Europe/Berlin:20260218T190000
DTEND;TZID=Europe/Berlin:20260218T190000
DTSTAMP:20260421T164141
CREATED:20260204T080522Z
LAST-MODIFIED:20260204T080522Z
UID:14680-1771441200-1771441200@grundschule-essenerstrasse.de
SUMMARY:Elternabend 3a\, 3b\, 3c
DESCRIPTION:Am Mittwoch\, den 18. Februar 2026\, finden die Elternabende der Klassen 3a\, 3b und 3c statt. Die Eltern der Klassen erhalten im Klassenraum viele wichtige Informationen zum zweiten Schulhalbjahr.
URL:https://grundschule-essenerstrasse.de/termin/elternabend-3a-3b-3c-9/
LOCATION:Klassenraum
END:VEVENT
BEGIN:VEVENT
DTSTART;TZID=Europe/Berlin:20260218T081500
DTEND;TZID=Europe/Berlin:20260218T081500
DTSTAMP:20260421T164141
CREATED:20250828T071321Z
LAST-MODIFIED:20250828T071321Z
UID:14264-1771402500-1771402500@grundschule-essenerstrasse.de
SUMMARY:Aschermittwochsgottesdienst
DESCRIPTION:Am Mittwoch\, den 18. März 2026\, findet für die Kinder der 3. und 4. Klassen ein Aschermittwochsgottesdienst statt. Die Kinder treffen sich bereits um 8 Uhr auf dem Schulhof und gehen gemeinsam mit ihren Lehrerinnen zur Kirche.
URL:https://grundschule-essenerstrasse.de/termin/aschermittwochsgottesdienst-6/
LOCATION:Kirche Hl. Dreifaltigkeit
END:VEVENT
BEGIN:VEVENT
DTSTART;VALUE=DATE:20260217
DTEND;VALUE=DATE:20260219
DTSTAMP:20260421T164141
CREATED:20250828T071204Z
LAST-MODIFIED:20250828T071204Z
UID:14261-1771315200-1771401599@grundschule-essenerstrasse.de
SUMMARY:Fortbildungstag für das Kollegium
DESCRIPTION:Am Dienstag\, den 17. Februar 2026\, führt das Kollegium eine ganztägige Fortbildung durch. An diesem Tag findet kein Unterricht statt. Für die Ganztagskinder wird eine ganztägige Betreuung angeboten. AGs finden an diesem Nachmittag nicht statt.
URL:https://grundschule-essenerstrasse.de/termin/fortbildungstag-fuer-das-kollegium-3/
END:VEVENT
BEGIN:VEVENT
DTSTART;VALUE=DATE:20260216
DTEND;VALUE=DATE:20260218
DTSTAMP:20260421T164141
CREATED:20250511T123916Z
LAST-MODIFIED:20250622T180826Z
UID:13703-1771228800-1771315199@grundschule-essenerstrasse.de
SUMMARY:Rosenmontag\, schulfrei\, OGS geschlossen
DESCRIPTION:Am Montag\, den 16. Februar 2026\, ist schulfrei. Der Ganztag bleibt geschlossen.
URL:https://grundschule-essenerstrasse.de/termin/rosenmontag-4/
END:VEVENT
BEGIN:VEVENT
DTSTART;TZID=Europe/Berlin:20260214T123000
DTEND;TZID=Europe/Berlin:20260214T123000
DTSTAMP:20260421T164141
CREATED:20250828T070919Z
LAST-MODIFIED:20250828T190539Z
UID:14256-1771072200-1771072200@grundschule-essenerstrasse.de
SUMMARY:Kinderkarnevalsumzug
DESCRIPTION:Am Samstag\, den 14. März 2026\, nimmt die Schulgemeinschaft am Kinderkarnevalsumzug auf der KÖ teil. Die Familien treffen sich um 12:30 Uhr an der Rheinuferpromenade\, um gemeinsam in ihren selbst hergestellten Kostümen am Kinderkarnevalsumzug loszuziehen.
URL:https://grundschule-essenerstrasse.de/termin/kinderkarnevalsumzug-9/
LOCATION:Rheinuferpromenade
END:VEVENT
BEGIN:VEVENT
DTSTART;VALUE=DATE:20260213
DTEND;VALUE=DATE:20260215
DTSTAMP:20260421T164141
CREATED:20250511T123654Z
LAST-MODIFIED:20250622T180804Z
UID:13700-1770969600-1771055999@grundschule-essenerstrasse.de
SUMMARY:Karnevalsfreitag\, schulfrei\, OGS geöffnet
DESCRIPTION:Am Freitag\, den 13. Februar 2026\, ist Brückentag. Es findet kein Unterricht statt. Der Ganztag ist geöffnet.
URL:https://grundschule-essenerstrasse.de/termin/karnevalsfreitag-schulfrei-ogs-geoeffnet-3/
END:VEVENT
BEGIN:VEVENT
DTSTART;TZID=Europe/Berlin:20260212T103000
DTEND;TZID=Europe/Berlin:20260212T103000
DTSTAMP:20260421T164141
CREATED:20250828T070703Z
LAST-MODIFIED:20250828T070703Z
UID:14253-1770892200-1770892200@grundschule-essenerstrasse.de
SUMMARY:Karnevalssitzung II
DESCRIPTION:Am Donnerstag\, den 12. Februar 2026\, findet um 10:30 Uhr für die b-Klassen und die Klassen 2c und 3c die schuleigene Karnevalssitzung statt. Auch die Eltern sind herzlich eingeladen\, mitzufeiern. Der Unterricht endet um 11:30 Uhr\, anschließend ist der Ganztag für die OGS-Kinder bis 15 Uhr geöffnet.
URL:https://grundschule-essenerstrasse.de/termin/karnevalssitzung-ii-3/
LOCATION:Turnhalle
END:VEVENT
BEGIN:VEVENT
DTSTART;TZID=Europe/Berlin:20260212T090000
DTEND;TZID=Europe/Berlin:20260212T090000
DTSTAMP:20260421T164141
CREATED:20250828T070435Z
LAST-MODIFIED:20250828T070435Z
UID:14250-1770886800-1770886800@grundschule-essenerstrasse.de
SUMMARY:Karnevalssitzung I
DESCRIPTION:Am Donnerstag\, den 12. Februar 2026\, findet um 9 Uhr für die a-Klassen und die Klassen 1c und 4c die schuleigene Karnevalssitzung statt. Auch die Eltern sind herzlich eingeladen\, mitzufeiern. Der Unterricht endet um 11:30 Uhr\, anschließend ist der Ganztag für die OGS-Kinder bis 15 Uhr geöffnet.
URL:https://grundschule-essenerstrasse.de/termin/karnevalssitzung-i-3/
LOCATION:Turnhalle
END:VEVENT
BEGIN:VEVENT
DTSTART;TZID=Europe/Berlin:20260211T200000
DTEND;TZID=Europe/Berlin:20260211T200000
DTSTAMP:20260421T164141
CREATED:20250828T070243Z
LAST-MODIFIED:20250828T070243Z
UID:14247-1770840000-1770840000@grundschule-essenerstrasse.de
SUMMARY:Schmücken der Turnhalle
DESCRIPTION:Am Mittwoch\, den 11. Februar 2026\, schmücken wir die Turnhalle für die schuleigene Karnevalssitzung. Alle Eltern sind herzlich eingeladen\, uns dabei zu helfen\, frei nach dem Motto: viele Hände\, schnelles Ende!
URL:https://grundschule-essenerstrasse.de/termin/schmuecken-der-turnhalle-9/
LOCATION:Turnhalle
END:VEVENT
BEGIN:VEVENT
DTSTART;TZID=Europe/Berlin:20260210T190000
DTEND;TZID=Europe/Berlin:20260210T190000
DTSTAMP:20260421T164141
CREATED:20260202T140652Z
LAST-MODIFIED:20260202T140710Z
UID:14656-1770750000-1770750000@grundschule-essenerstrasse.de
SUMMARY:Elternabend 4a\, 4b\, 4c
DESCRIPTION:Am Dienstag\, den 10. Februar 2026\, finden die Elternabende der Klassen 4a\, 4b und 4c statt. Die Eltern der Klassen erhalten im Versammlungsraum viele wichtige Informationen zum zweiten Schulhalbjahr.
URL:https://grundschule-essenerstrasse.de/termin/elternabend-4a-4b-4c-9/
LOCATION:Versammlungsraum
END:VEVENT
BEGIN:VEVENT
DTSTART;VALUE=DATE:20260209
DTEND;VALUE=DATE:20260211
DTSTAMP:20260421T164141
CREATED:20250828T072240Z
LAST-MODIFIED:20250828T072240Z
UID:14266-1770624000-1770710399@grundschule-essenerstrasse.de
SUMMARY:Beginn des 2. Schulhalbjahres
DESCRIPTION:Am Montag\, den 9. Februar 2026\, beginnt das 2. Schulhalbjahr. Die neuen AGs starten auch heute.
URL:https://grundschule-essenerstrasse.de/termin/beginn-des-2-schulhalbjahres-11/
END:VEVENT
BEGIN:VEVENT
DTSTART;VALUE=DATE:20260206
DTEND;VALUE=DATE:20260208
DTSTAMP:20260421T164141
CREATED:20250825T125201Z
LAST-MODIFIED:20250825T125201Z
UID:14230-1770364800-1770451199@grundschule-essenerstrasse.de
SUMMARY:Zeugnisausgabe für die Klassen 3 und 4
DESCRIPTION:Am Freitag\, den 6. Februar 2025\, erhalten die Kinder der 3. und 4. Klasse ihre Halbjahreszeugnisse. Die Zeugnisse der Vierklässler enthalten eine Empfehlung für die weiterführende Schule. Der Unterricht endet für alle Kinder um 11 Uhr\, anschließend ist der Ganztag für die Ganztagskinder geöffnet.
URL:https://grundschule-essenerstrasse.de/termin/zeugnisausgabe-fuer-die-klassen-3-und-4-6/
END:VEVENT
BEGIN:VEVENT
DTSTART;TZID=Europe/Berlin:20260129T081500
DTEND;TZID=Europe/Berlin:20260129T081500
DTSTAMP:20260421T164141
CREATED:20250825T084635Z
LAST-MODIFIED:20250825T084827Z
UID:14142-1769674500-1769674500@grundschule-essenerstrasse.de
SUMMARY:Schulgottesdienst Kl. 4
DESCRIPTION:Am Donnerstag\, den 29. Januar 2026\, findet für die Kinder der 4. Klassen um 08:15 Uhr der Schulgottesdienst in der Kirche Hl. Dreifaltigkeit statt. Die Kinder treffen sich bereits um 08:00 Uhr auf dem Schulhof und gehen gemeinsam mit ihren Lehrerinnen zur Kirche.
URL:https://grundschule-essenerstrasse.de/termin/schulgottesdienst-kl-4-18/
LOCATION:Kirche Hl. Dreifaltigkeit
END:VEVENT
BEGIN:VEVENT
DTSTART;TZID=Europe/Berlin:20260115T081500
DTEND;TZID=Europe/Berlin:20260115T081500
DTSTAMP:20260421T164141
CREATED:20250825T085254Z
LAST-MODIFIED:20250825T085254Z
UID:14154-1768464900-1768464900@grundschule-essenerstrasse.de
SUMMARY:Schulgottesdienst Kl. 3
DESCRIPTION:Am Donnerstag\, den 15. Januar\, findet für die Kinder der 3. Klassen um 08:15 Uhr der Schulgottesdienst in der Kirche Hl. Dreifaltigkeit statt. Die Kinder treffen sich bereits um 08:00 Uhr auf dem Schulhof und gehen gemeinsam mit ihren Lehrerinnen zur Kirche.
URL:https://grundschule-essenerstrasse.de/termin/schulgottesdienst-kl-3-17/
LOCATION:Kirche Hl. Dreifaltigkeit
END:VEVENT
BEGIN:VEVENT
DTSTART;VALUE=DATE:20251222
DTEND;VALUE=DATE:20260108
DTSTAMP:20260421T164141
CREATED:20250511T123451Z
LAST-MODIFIED:20250511T123451Z
UID:13697-1766390400-1767772799@grundschule-essenerstrasse.de
SUMMARY:Weihnachtsferien\, OGS geschlossen
DESCRIPTION:In der Zeit vom 22. Dezember 2025 bis zum 6. Januar 2026 sind Weihnachtsferien. Der Ganztag bleibt während der Ferien geschlossen
URL:https://grundschule-essenerstrasse.de/termin/weihnachtsferien-ogs-geschlossen-6/
END:VEVENT
BEGIN:VEVENT
DTSTART;TZID=Europe/Berlin:20251218T083000
DTEND;TZID=Europe/Berlin:20251218T083000
DTSTAMP:20260421T164141
CREATED:20250825T123243Z
LAST-MODIFIED:20250825T123341Z
UID:14227-1766046600-1766046600@grundschule-essenerstrasse.de
SUMMARY:vorweihnachtlicher Gottesdienst
DESCRIPTION:Am Donnerstag\, den 18. Dezember 2025 feiern wir mit der ganzen Schule einen vorweihnachtlichen Gottesdienst. Wir gehen mit den Kindern gemeinsam zur Kirche und anschließend wieder zur Schule zurück.
URL:https://grundschule-essenerstrasse.de/termin/vorweihnachtlicher-gottesdienst-8/
LOCATION:Kirche Hl. Dreifaltigkeit
END:VEVENT
END:VCALENDAR