BEGIN:VCALENDAR
VERSION:2.0
PRODID:-//Katholische Grundschule Essener Straße - ECPv6.15.15//NONSGML v1.0//EN
CALSCALE:GREGORIAN
METHOD:PUBLISH
X-ORIGINAL-URL:https://grundschule-essenerstrasse.de
X-WR-CALDESC:Veranstaltungen für Katholische Grundschule Essener Straße
REFRESH-INTERVAL;VALUE=DURATION:PT1H
X-Robots-Tag:noindex
X-PUBLISHED-TTL:PT1H
BEGIN:VTIMEZONE
TZID:Europe/Berlin
BEGIN:DAYLIGHT
TZOFFSETFROM:+0100
TZOFFSETTO:+0200
TZNAME:CEST
DTSTART:20250330T010000
END:DAYLIGHT
BEGIN:STANDARD
TZOFFSETFROM:+0200
TZOFFSETTO:+0100
TZNAME:CET
DTSTART:20251026T010000
END:STANDARD
BEGIN:DAYLIGHT
TZOFFSETFROM:+0100
TZOFFSETTO:+0200
TZNAME:CEST
DTSTART:20260329T010000
END:DAYLIGHT
BEGIN:STANDARD
TZOFFSETFROM:+0200
TZOFFSETTO:+0100
TZNAME:CET
DTSTART:20261025T010000
END:STANDARD
BEGIN:DAYLIGHT
TZOFFSETFROM:+0100
TZOFFSETTO:+0200
TZNAME:CEST
DTSTART:20270328T010000
END:DAYLIGHT
BEGIN:STANDARD
TZOFFSETFROM:+0200
TZOFFSETTO:+0100
TZNAME:CET
DTSTART:20271031T010000
END:STANDARD
END:VTIMEZONE
BEGIN:VEVENT
DTSTART;VALUE=DATE:20260316
DTEND;VALUE=DATE:20260329
DTSTAMP:20260421T164404
CREATED:20250828T072645Z
LAST-MODIFIED:20250828T072729Z
UID:14273-1773648000-1774684799@grundschule-essenerstrasse.de
SUMMARY:Elternsprechzeiten
DESCRIPTION:In der Zeit vom 16. bis 27. März 2026\, finden die Elternsprechzeiten in den Klassen 1 bis 3 statt. Hier haben die Eltern die Möglichkeit\, mit den Lehrerinnen ihres Kindes über den Lern- und Leistungsstand zu sprechen.
URL:https://grundschule-essenerstrasse.de/termin/elternsprechzeiten-25/
END:VEVENT
BEGIN:VEVENT
DTSTART;TZID=Europe/Berlin:20260327T100000
DTEND;TZID=Europe/Berlin:20260327T100000
DTSTAMP:20260421T164404
CREATED:20250825T093349Z
LAST-MODIFIED:20250825T093349Z
UID:14184-1774605600-1774605600@grundschule-essenerstrasse.de
SUMMARY:Treffen in der Turnhalle
DESCRIPTION:Am letzten Schultag vor den Osterferien treffen sich die b-Klassen sowie die Klassen 2c und 3c um 10:00 Uhr in der Turnhalle\, um sich in die Ferien zu verabschieden. Einzelne Klassen präsentieren Ergebnisse aus dem Unterricht\, wie z. B. Tänze\, Lieder oder Referate. Die Eltern dieser Klassen sind herzlich dazu eingeladen.
URL:https://grundschule-essenerstrasse.de/termin/treffen-in-der-turnhalle-35/
LOCATION:Turnhalle
END:VEVENT
BEGIN:VEVENT
DTSTART;TZID=Europe/Berlin:20260327T104500
DTEND;TZID=Europe/Berlin:20260327T104500
DTSTAMP:20260421T164404
CREATED:20250825T093052Z
LAST-MODIFIED:20250825T093052Z
UID:14181-1774608300-1774608300@grundschule-essenerstrasse.de
SUMMARY:Treffen in der Turnhalle
DESCRIPTION:Am letzten Schultag vor den Osterferien treffen sich die a-Klassen sowie die Klassen 1c und 4c um 10:45 Uhr in der Turnhalle\, um sich in die Ferien zu verabschieden. Einzelne Klassen präsentieren Ergebnisse aus dem Unterricht\, wie z. B. Tänze\, Lieder oder Referate. Die Eltern dieser Klassen sind herzlich dazu eingeladen.
URL:https://grundschule-essenerstrasse.de/termin/treffen-in-der-turnhalle-34/
LOCATION:Turnhalle
END:VEVENT
END:VCALENDAR