BEGIN:VCALENDAR
VERSION:2.0
PRODID:-//Katholische Grundschule Essener Straße - ECPv6.15.15//NONSGML v1.0//EN
CALSCALE:GREGORIAN
METHOD:PUBLISH
X-WR-CALNAME:Katholische Grundschule Essener Straße
X-ORIGINAL-URL:https://grundschule-essenerstrasse.de
X-WR-CALDESC:Veranstaltungen für Katholische Grundschule Essener Straße
REFRESH-INTERVAL;VALUE=DURATION:PT1H
X-Robots-Tag:noindex
X-PUBLISHED-TTL:PT1H
BEGIN:VTIMEZONE
TZID:Europe/Berlin
BEGIN:DAYLIGHT
TZOFFSETFROM:+0100
TZOFFSETTO:+0200
TZNAME:CEST
DTSTART:20250330T010000
END:DAYLIGHT
BEGIN:STANDARD
TZOFFSETFROM:+0200
TZOFFSETTO:+0100
TZNAME:CET
DTSTART:20251026T010000
END:STANDARD
BEGIN:DAYLIGHT
TZOFFSETFROM:+0100
TZOFFSETTO:+0200
TZNAME:CEST
DTSTART:20260329T010000
END:DAYLIGHT
BEGIN:STANDARD
TZOFFSETFROM:+0200
TZOFFSETTO:+0100
TZNAME:CET
DTSTART:20261025T010000
END:STANDARD
BEGIN:DAYLIGHT
TZOFFSETFROM:+0100
TZOFFSETTO:+0200
TZNAME:CEST
DTSTART:20270328T010000
END:DAYLIGHT
BEGIN:STANDARD
TZOFFSETFROM:+0200
TZOFFSETTO:+0100
TZNAME:CET
DTSTART:20271031T010000
END:STANDARD
END:VTIMEZONE
BEGIN:VEVENT
DTSTART;TZID=Europe/Berlin:20260226T081500
DTEND;TZID=Europe/Berlin:20260226T081500
DTSTAMP:20260421T163830
CREATED:20250828T090137Z
LAST-MODIFIED:20250828T090137Z
UID:14282-1772093700-1772093700@grundschule-essenerstrasse.de
SUMMARY:Schulgottesdienst Kl. 3
DESCRIPTION:Am Donnerstag\, den 26. Februar\, findet für die Kinder der 3. Klassen um 08:15 Uhr der Schulgottesdienst in der Kirche Hl. Dreifaltigkeit statt. Die Kinder treffen sich bereits um 08:00 Uhr auf dem Schulhof und gehen gemeinsam mit ihren Lehrerinnen zur Kirche.
URL:https://grundschule-essenerstrasse.de/termin/schulgottesdienst-kl-3-18/
LOCATION:Kirche Hl. Dreifaltigkeit
END:VEVENT
BEGIN:VEVENT
DTSTART;TZID=Europe/Berlin:20260226T190000
DTEND;TZID=Europe/Berlin:20260226T190000
DTSTAMP:20260421T163830
CREATED:20260204T075852Z
LAST-MODIFIED:20260204T080031Z
UID:14673-1772132400-1772132400@grundschule-essenerstrasse.de
SUMMARY:Elternabend 2a\, 2c
DESCRIPTION:Am Donnerstag\, den 26. Februar 2026\, finden die Elternabende der Klassen 2a und 2c statt. Die Eltern der Klassen erhalten im Versammlungsraum viele wichtige Informationen zum zweiten Schulhalbjahr.
URL:https://grundschule-essenerstrasse.de/termin/elternabend-2a-2b-2c-7/
LOCATION:Versammlungsraum
END:VEVENT
BEGIN:VEVENT
DTSTART;TZID=Europe/Berlin:20260226T190000
DTEND;TZID=Europe/Berlin:20260226T190000
DTSTAMP:20260421T163830
CREATED:20260204T080152Z
LAST-MODIFIED:20260204T080152Z
UID:14676-1772132400-1772132400@grundschule-essenerstrasse.de
SUMMARY:Elternabend 2b
DESCRIPTION:Am Donnerstag\, den 26. Februar 2026\, findet der Elternabend der Klasse 2b statt. Die Eltern der Klassen erhalten im Klassenraum viele wichtige Informationen zum zweiten Schulhalbjahr.
URL:https://grundschule-essenerstrasse.de/termin/elternabend-2b-7/
LOCATION:Klassenraum
END:VEVENT
END:VCALENDAR