BEGIN:VCALENDAR
VERSION:2.0
PRODID:-//Katholische Grundschule Essener Straße - ECPv6.15.15//NONSGML v1.0//EN
CALSCALE:GREGORIAN
METHOD:PUBLISH
X-ORIGINAL-URL:https://grundschule-essenerstrasse.de
X-WR-CALDESC:Veranstaltungen für Katholische Grundschule Essener Straße
REFRESH-INTERVAL;VALUE=DURATION:PT1H
X-Robots-Tag:noindex
X-PUBLISHED-TTL:PT1H
BEGIN:VTIMEZONE
TZID:Europe/Berlin
BEGIN:DAYLIGHT
TZOFFSETFROM:+0100
TZOFFSETTO:+0200
TZNAME:CEST
DTSTART:20240331T010000
END:DAYLIGHT
BEGIN:STANDARD
TZOFFSETFROM:+0200
TZOFFSETTO:+0100
TZNAME:CET
DTSTART:20241027T010000
END:STANDARD
BEGIN:DAYLIGHT
TZOFFSETFROM:+0100
TZOFFSETTO:+0200
TZNAME:CEST
DTSTART:20250330T010000
END:DAYLIGHT
BEGIN:STANDARD
TZOFFSETFROM:+0200
TZOFFSETTO:+0100
TZNAME:CET
DTSTART:20251026T010000
END:STANDARD
BEGIN:DAYLIGHT
TZOFFSETFROM:+0100
TZOFFSETTO:+0200
TZNAME:CEST
DTSTART:20260329T010000
END:DAYLIGHT
BEGIN:STANDARD
TZOFFSETFROM:+0200
TZOFFSETTO:+0100
TZNAME:CET
DTSTART:20261025T010000
END:STANDARD
END:VTIMEZONE
BEGIN:VEVENT
DTSTART;VALUE=DATE:20251124
DTEND;VALUE=DATE:20251207
DTSTAMP:20260423T085251
CREATED:20250825T095731Z
LAST-MODIFIED:20250825T095731Z
UID:14197-1763971200-1765007999@grundschule-essenerstrasse.de
SUMMARY:Elternsprechzeiten
DESCRIPTION:In der Zeit vom 24. November bis 5. Dezember 2025 finden in allen Klassen die Elterngespräche statt. Die Eltern der Viertklässler werden über die weitere schulische Förderung ihres Kindes nach der Grundschule beraten.
URL:https://grundschule-essenerstrasse.de/termin/elternsprechzeiten-24/
END:VEVENT
BEGIN:VEVENT
DTSTART;TZID=Europe/Berlin:20251203T093000
DTEND;TZID=Europe/Berlin:20251203T093000
DTSTAMP:20260423T085251
CREATED:20250825T104849Z
LAST-MODIFIED:20250825T104849Z
UID:14221-1764754200-1764754200@grundschule-essenerstrasse.de
SUMMARY:Theaterfieber "Emil und die drei Zwillinge"
DESCRIPTION:Am Mittwoch\, den 3. Dezember 2025\, besucht die ganze Schule um 09:30 Uhr das Schauspielhaus. Dort sehen die Schülerinnen und Schüler das Kinder- und Familienstück „Emil und die drei Zwillinge“.
URL:https://grundschule-essenerstrasse.de/termin/theaterfieber-emil-und-die-drei-zwillinge/
LOCATION:Schauspielhaus Düsseldorf
END:VEVENT
END:VCALENDAR