BEGIN:VCALENDAR
VERSION:2.0
PRODID:-//Katholische Grundschule Essener Straße - ECPv6.15.15//NONSGML v1.0//EN
CALSCALE:GREGORIAN
METHOD:PUBLISH
X-ORIGINAL-URL:https://grundschule-essenerstrasse.de
X-WR-CALDESC:Veranstaltungen für Katholische Grundschule Essener Straße
REFRESH-INTERVAL;VALUE=DURATION:PT1H
X-Robots-Tag:noindex
X-PUBLISHED-TTL:PT1H
BEGIN:VTIMEZONE
TZID:Europe/Berlin
BEGIN:DAYLIGHT
TZOFFSETFROM:+0100
TZOFFSETTO:+0200
TZNAME:CEST
DTSTART:20240331T010000
END:DAYLIGHT
BEGIN:STANDARD
TZOFFSETFROM:+0200
TZOFFSETTO:+0100
TZNAME:CET
DTSTART:20241027T010000
END:STANDARD
BEGIN:DAYLIGHT
TZOFFSETFROM:+0100
TZOFFSETTO:+0200
TZNAME:CEST
DTSTART:20250330T010000
END:DAYLIGHT
BEGIN:STANDARD
TZOFFSETFROM:+0200
TZOFFSETTO:+0100
TZNAME:CET
DTSTART:20251026T010000
END:STANDARD
BEGIN:DAYLIGHT
TZOFFSETFROM:+0100
TZOFFSETTO:+0200
TZNAME:CEST
DTSTART:20260329T010000
END:DAYLIGHT
BEGIN:STANDARD
TZOFFSETFROM:+0200
TZOFFSETTO:+0100
TZNAME:CET
DTSTART:20261025T010000
END:STANDARD
END:VTIMEZONE
BEGIN:VEVENT
DTSTART;VALUE=DATE:20251107
DTEND;VALUE=DATE:20251109
DTSTAMP:20260423T101317
CREATED:20250825T093735Z
LAST-MODIFIED:20250825T095249Z
UID:14189-1762502400-1762588799@grundschule-essenerstrasse.de
SUMMARY:St. Martin
DESCRIPTION:Am Freitag\, den 7. November 2025\, beginnen wir unseren Martinstag mit einem gemeinsamen Gottesdienst für alle Kinder um 09:30 Uhr in der Kirche Hl. Dreifaltigkeit. Anschließend findet in jeder Klasse das traditionelle Weckmannessen statt.
URL:https://grundschule-essenerstrasse.de/termin/st-martin-9/
END:VEVENT
BEGIN:VEVENT
DTSTART;TZID=Europe/Berlin:20251107T160000
DTEND;TZID=Europe/Berlin:20251107T160000
DTSTAMP:20260423T101317
CREATED:20250825T095502Z
LAST-MODIFIED:20250825T095502Z
UID:14194-1762531200-1762531200@grundschule-essenerstrasse.de
SUMMARY:St. Martinsfeier
DESCRIPTION:Um 16 Uhr treffen wir uns für unsere kleine Martinsfeier auf dem Schulhof. Wir werden uns mit Martinsliedern\, warmen Getränken und Weckmännern des Fördervereins auf das gemeinsame Fest einstimmen. Gegen 17 Uhr stellen wir uns klassenweise auf dem Schulhof auf\, um uns an der Ecke Collenbachstraße/Glockenstraße in den Umzug einzureihen.
URL:https://grundschule-essenerstrasse.de/termin/st-martinsfeier/
LOCATION:Schulhof
END:VEVENT
END:VCALENDAR