BEGIN:VCALENDAR
VERSION:2.0
PRODID:-//Katholische Grundschule Essener Straße - ECPv6.15.15//NONSGML v1.0//EN
CALSCALE:GREGORIAN
METHOD:PUBLISH
X-ORIGINAL-URL:https://grundschule-essenerstrasse.de
X-WR-CALDESC:Veranstaltungen für Katholische Grundschule Essener Straße
REFRESH-INTERVAL;VALUE=DURATION:PT1H
X-Robots-Tag:noindex
X-PUBLISHED-TTL:PT1H
BEGIN:VTIMEZONE
TZID:Europe/Berlin
BEGIN:DAYLIGHT
TZOFFSETFROM:+0100
TZOFFSETTO:+0200
TZNAME:CEST
DTSTART:20240331T010000
END:DAYLIGHT
BEGIN:STANDARD
TZOFFSETFROM:+0200
TZOFFSETTO:+0100
TZNAME:CET
DTSTART:20241027T010000
END:STANDARD
BEGIN:DAYLIGHT
TZOFFSETFROM:+0100
TZOFFSETTO:+0200
TZNAME:CEST
DTSTART:20250330T010000
END:DAYLIGHT
BEGIN:STANDARD
TZOFFSETFROM:+0200
TZOFFSETTO:+0100
TZNAME:CET
DTSTART:20251026T010000
END:STANDARD
BEGIN:DAYLIGHT
TZOFFSETFROM:+0100
TZOFFSETTO:+0200
TZNAME:CEST
DTSTART:20260329T010000
END:DAYLIGHT
BEGIN:STANDARD
TZOFFSETFROM:+0200
TZOFFSETTO:+0100
TZNAME:CET
DTSTART:20261025T010000
END:STANDARD
END:VTIMEZONE
BEGIN:VEVENT
DTSTART;TZID=Europe/Berlin:20251001T164500
DTEND;TZID=Europe/Berlin:20251001T164500
DTSTAMP:20260423T112928
CREATED:20250827T103304Z
LAST-MODIFIED:20250827T103304Z
UID:14239-1759337100-1759337100@grundschule-essenerstrasse.de
SUMMARY:OGS-Elternnachmittag Gr. 1\, 2\, 3 und 4
DESCRIPTION:Am Dienstag\, den 30. September 2025\, findet für die OGS-Gruppen 1\, 2\, 3 und 4 der Elternnachmittag statt. Die Eltern wählen zunächst im Versammlungsraum ihren OGS-Elternvertreter und erhalten anschließend wichtige Informationen zum Ganztag und zum Gruppenalltag.
URL:https://grundschule-essenerstrasse.de/termin/ogs-elternnachmittag-gr-1-2-3-und-4/
LOCATION:Versammlungsraum
END:VEVENT
END:VCALENDAR