BEGIN:VCALENDAR
VERSION:2.0
PRODID:-//Katholische Grundschule Essener Straße - ECPv6.15.15//NONSGML v1.0//EN
CALSCALE:GREGORIAN
METHOD:PUBLISH
X-ORIGINAL-URL:https://grundschule-essenerstrasse.de
X-WR-CALDESC:Veranstaltungen für Katholische Grundschule Essener Straße
REFRESH-INTERVAL;VALUE=DURATION:PT1H
X-Robots-Tag:noindex
X-PUBLISHED-TTL:PT1H
BEGIN:VTIMEZONE
TZID:Europe/Berlin
BEGIN:DAYLIGHT
TZOFFSETFROM:+0100
TZOFFSETTO:+0200
TZNAME:CEST
DTSTART:20240331T010000
END:DAYLIGHT
BEGIN:STANDARD
TZOFFSETFROM:+0200
TZOFFSETTO:+0100
TZNAME:CET
DTSTART:20241027T010000
END:STANDARD
BEGIN:DAYLIGHT
TZOFFSETFROM:+0100
TZOFFSETTO:+0200
TZNAME:CEST
DTSTART:20250330T010000
END:DAYLIGHT
BEGIN:STANDARD
TZOFFSETFROM:+0200
TZOFFSETTO:+0100
TZNAME:CET
DTSTART:20251026T010000
END:STANDARD
BEGIN:DAYLIGHT
TZOFFSETFROM:+0100
TZOFFSETTO:+0200
TZNAME:CEST
DTSTART:20260329T010000
END:DAYLIGHT
BEGIN:STANDARD
TZOFFSETFROM:+0200
TZOFFSETTO:+0100
TZNAME:CET
DTSTART:20261025T010000
END:STANDARD
END:VTIMEZONE
BEGIN:VEVENT
DTSTART;VALUE=DATE:20250919
DTEND;VALUE=DATE:20250921
DTSTAMP:20260423T124546
CREATED:20250824T171932Z
LAST-MODIFIED:20250824T171932Z
UID:14124-1758268800-1758355199@grundschule-essenerstrasse.de
SUMMARY:Walk to school day
DESCRIPTION:Am Freitag\, den 19. September 2025\, nehmen wir am „Zu-Fuß-zur-Schule-Tag“ teil. So sollen möglichst alle unserer Schüler dazu bewegt werden\, ihren Schulweg zu Fuß zurückzulegen. Unterstützung leisten bei dem Aktionstag das Schulamt der Landeshauptstadt Düsseldorf\, die Polizei sowie die Verkehrswacht. Die Schulen mit den prozentual zur Gesamtschülerzahl meisten Fußgängern erhalten einen Geldpreis.
URL:https://grundschule-essenerstrasse.de/termin/walk-to-school-day-9/
END:VEVENT
END:VCALENDAR